BEGIN:VCALENDAR
VERSION:2.0
PRODID:-//WBTA - ECPv6.14.0//NONSGML v1.0//EN
CALSCALE:GREGORIAN
METHOD:PUBLISH
X-ORIGINAL-URL:https://wbtai.com
X-WR-CALDESC:Events for WBTA
REFRESH-INTERVAL;VALUE=DURATION:PT1H
X-Robots-Tag:noindex
X-PUBLISHED-TTL:PT1H
BEGIN:VTIMEZONE
TZID:America/New_York
BEGIN:DAYLIGHT
TZOFFSETFROM:-0500
TZOFFSETTO:-0400
TZNAME:EDT
DTSTART:20180311T070000
END:DAYLIGHT
BEGIN:STANDARD
TZOFFSETFROM:-0400
TZOFFSETTO:-0500
TZNAME:EST
DTSTART:20181104T060000
END:STANDARD
END:VTIMEZONE
BEGIN:VEVENT
DTSTART;TZID=America/New_York:20180722T120000
DTEND;TZID=America/New_York:20180722T170000
DTSTAMP:20260420T034046
CREATED:20180719T172032Z
LAST-MODIFIED:20180719T172044Z
UID:10891-1532260800-1532278800@wbtai.com
SUMMARY:United One Cross\, One Church
DESCRIPTION:The public is invited to attend a free community event\, Sunday\, July 22\, noon to 5pm in Austin Park\, Batavia. United One Cross\, One Church will bring the Word of God in music and ministry.
URL:https://wbtai.com/calendars/united-one-cross-one-church/
END:VEVENT
BEGIN:VEVENT
DTSTART;TZID=America/New_York:20180722T120000
DTEND;TZID=America/New_York:20180722T230000
DTSTAMP:20260420T034046
CREATED:20180717T175625Z
LAST-MODIFIED:20180717T175648Z
UID:10851-1532260800-1532300400@wbtai.com
SUMMARY:Sheldon BBQ
DESCRIPTION:The Sheldon Fire Company will hold a chicken bbq and annual picnic\, Sunday\, July 22\, at noon\, rain or shine\, at St. John Newman Church Grounds\, St. Cecilia site\, corner Centerline  and N. Sheldon Roads. There will be a free dance from 7pm to 11pm.
URL:https://wbtai.com/calendars/sheldon-bbq/
END:VEVENT
BEGIN:VEVENT
DTSTART;TZID=America/New_York:20180722T130000
DTEND;TZID=America/New_York:20180722T170000
DTSTAMP:20260420T034046
CREATED:20180605T165445Z
LAST-MODIFIED:20180605T165458Z
UID:9858-1532264400-1532278800@wbtai.com
SUMMARY:Muckdogs Baseball
DESCRIPTION:Muckdogs vs. Mahoning Valley\, 1:05pm\, Sunday\, July 22\, Dwyer Stadium\, Batavia.  Tickets available at the box office or online.  Listen live on WBTA.
URL:https://wbtai.com/calendars/muckdogs-baseball-17/
END:VEVENT
BEGIN:VEVENT
DTSTART;TZID=America/New_York:20180723T080000
DTEND;TZID=America/New_York:20180723T170000
DTSTAMP:20260420T034046
CREATED:20180509T144424Z
LAST-MODIFIED:20180509T144444Z
UID:9122-1532332800-1532365200@wbtai.com
SUMMARY:Cougar Classic
DESCRIPTION:3rd annual GCC Cougar Classic Scholarship Scramble Golf Tournament\, Monday\, July 23\, 11am at Stafford Country Club. To sign up go online or for more information email Jennifer Wakefield.
URL:https://wbtai.com/calendars/cougar-classic/
END:VEVENT
BEGIN:VEVENT
DTSTART;TZID=America/New_York:20180723T090000
DTEND;TZID=America/New_York:20180723T170000
DTSTAMP:20260420T034046
CREATED:20180604T143034Z
LAST-MODIFIED:20180604T143051Z
UID:9705-1532336400-1532365200@wbtai.com
SUMMARY:Cougar Classic Golf Tournament
DESCRIPTION:3rd Annual Cougar Classic Golf Tournament\, Monday\, July 23\, at Stafford Country Club. Go on line for more information and registration.
URL:https://wbtai.com/calendars/cougar-classic-golf-tournament/
END:VEVENT
BEGIN:VEVENT
DTSTART;TZID=America/New_York:20180724T190000
DTEND;TZID=America/New_York:20180724T223000
DTSTAMP:20260420T034046
CREATED:20180605T165653Z
LAST-MODIFIED:20180605T165707Z
UID:9860-1532458800-1532471400@wbtai.com
SUMMARY:Muckdogs Baseball
DESCRIPTION:Muckdogs vs. Staten Island\, 7:05pm\, Tuesday\, July 24\, at Dwyer Stadium\, Batavia. Tickets available online or at the box office. Listen live on WBTA.
URL:https://wbtai.com/calendars/muckdogs-baseball-18/
END:VEVENT
BEGIN:VEVENT
DTSTART;TZID=America/New_York:20180725T170000
DTEND;TZID=America/New_York:20180725T220000
DTSTAMP:20260420T034046
CREATED:20180521T170749Z
LAST-MODIFIED:20180521T170802Z
UID:9414-1532538000-1532556000@wbtai.com
SUMMARY:Stop-DWI Night
DESCRIPTION:Genesee County Stop -DWI  Night at Dwyer Stadium\, Batavia\, will be held Wednesday\, July 25th. The first 50 kids through the gate will receive a T-Shirt from the Genesee County Youth Bureau.
URL:https://wbtai.com/calendars/stop-dwi-night/
END:VEVENT
BEGIN:VEVENT
DTSTART;TZID=America/New_York:20180725T190000
DTEND;TZID=America/New_York:20180725T200000
DTSTAMP:20260420T034046
CREATED:20180604T202030Z
LAST-MODIFIED:20180604T202045Z
UID:9735-1532545200-1532548800@wbtai.com
SUMMARY:Batavia Concert Band
DESCRIPTION:Batavia Concert Band will play in Centennial Park\, Batavia\, Wednesday\, July 25\, 7pm. Bring your lawn chairs.
URL:https://wbtai.com/calendars/batavia-concert-band-5/
END:VEVENT
BEGIN:VEVENT
DTSTART;TZID=America/New_York:20180725T190000
DTEND;TZID=America/New_York:20180725T223000
DTSTAMP:20260420T034046
CREATED:20180605T165902Z
LAST-MODIFIED:20180605T165914Z
UID:9862-1532545200-1532557800@wbtai.com
SUMMARY:Muckdogs Baseball
DESCRIPTION:Muckdogs vs. Staten Island\, 7:05pm\, Wednesday\, July 25\, Dwyer Stadium\, Batavia. Tickets available online or at the box office. Listen live on WBTA.
URL:https://wbtai.com/calendars/muckdogs-baseball-19/
END:VEVENT
BEGIN:VEVENT
DTSTART;TZID=America/New_York:20180726T090000
DTEND;TZID=America/New_York:20180728T170000
DTSTAMP:20260420T034046
CREATED:20180514T202025Z
LAST-MODIFIED:20180514T202038Z
UID:9265-1532595600-1532797200@wbtai.com
SUMMARY:Crossroads House Garage Sale
DESCRIPTION:Crossroads House annual Garage Sale will be held Thursday\, July 26\, thru Saturday\, July 28 at 11 Liberty Street\, Batavia.
URL:https://wbtai.com/calendars/crossroads-house-garage-sale/
END:VEVENT
BEGIN:VEVENT
DTSTART;TZID=America/New_York:20180726T110000
DTEND;TZID=America/New_York:20180726T150000
DTSTAMP:20260420T034046
CREATED:20180605T170108Z
LAST-MODIFIED:20180605T170121Z
UID:9864-1532602800-1532617200@wbtai.com
SUMMARY:Muckdogs Baseball
DESCRIPTION:Muckdogs take on Staten Island\, 11:05am\, on Thursday\, July 26\, Dwyer Stadium\, Batavia. Tickets available at the box office or online.
URL:https://wbtai.com/calendars/muckdogs-baseball-20/
END:VEVENT
BEGIN:VEVENT
DTSTART;TZID=America/New_York:20180726T110000
DTEND;TZID=America/New_York:20180726T190000
DTSTAMP:20260420T034046
CREATED:20180523T152924Z
LAST-MODIFIED:20180523T154701Z
UID:9464-1532602800-1532631600@wbtai.com
SUMMARY:Chamber Golf & Bocce
DESCRIPTION:Genesee County Chamber of Commerce 46th annual Golf and Bocce Tournament will be held Thursday\, July 26\, at the LeRoy Country Club. Registration opens at 11am; golf scramble format shotgun start at noon. Register with Kelly Bermingham at 343-7440.
URL:https://wbtai.com/calendars/chamber-golf-bocce/
END:VEVENT
BEGIN:VEVENT
DTSTART;TZID=America/New_York:20180726T180000
DTEND;TZID=America/New_York:20180726T220000
DTSTAMP:20260420T034046
CREATED:20180705T185440Z
LAST-MODIFIED:20180705T185456Z
UID:10653-1532628000-1532642400@wbtai.com
SUMMARY:Reel Discussions
DESCRIPTION:Come view the movie\, ” The Music Man”\, and join in discussions afterward\, Thursday\, July 26th\, 6pm\, at the Richmond Memorial Library\, 19 Ross Street\, Batavia.
URL:https://wbtai.com/calendars/reel-discussions-8/
END:VEVENT
BEGIN:VEVENT
DTSTART;TZID=America/New_York:20180727T170000
DTEND;TZID=America/New_York:20180727T220000
DTSTAMP:20260420T034046
CREATED:20180605T151020Z
LAST-MODIFIED:20180605T151058Z
UID:9800-1532710800-1532728800@wbtai.com
SUMMARY:Rockin' the Downs
DESCRIPTION:Puddle of Mudd will Rock the Downs Friday\, July 27\, 5pm\, at Batavia Downs Gaming & Hotel\, Park Road\, Batavia. For tickets and more information go online.
URL:https://wbtai.com/calendars/rockin-the-downs-6/
END:VEVENT
BEGIN:VEVENT
DTSTART;TZID=America/New_York:20180727T190000
DTEND;TZID=America/New_York:20180727T210000
DTSTAMP:20260420T034046
CREATED:20180604T204952Z
LAST-MODIFIED:20180604T205200Z
UID:9758-1532718000-1532725200@wbtai.com
SUMMARY:Jackson Square Concert Series
DESCRIPTION:The Ohms Band\, featuring classic rock\, will play in Jackson Square Downtown Batavia\, Friday\, July 27\, 7pm\, as part of the BID summer concert series. Bring your lawn chairs.
URL:https://wbtai.com/calendars/jackson-square-concert-series/
END:VEVENT
BEGIN:VEVENT
DTSTART;TZID=America/New_York:20180728T073000
DTEND;TZID=America/New_York:20180728T180000
DTSTAMP:20260420T034046
CREATED:20180612T142727Z
LAST-MODIFIED:20180612T142741Z
UID:10097-1532763000-1532800800@wbtai.com
SUMMARY:Byron Heritage Day
DESCRIPTION:Byron Heritage Day\, Saturday\, July 28\, starting at 7:30am with a 5K Race at Town Park; a town wide yard & rummage sale starts at 9am at the Byron Presbyterian Church; at 4pm the Kiwanis will host a chicken bbq in the Byron Fire Hall.
URL:https://wbtai.com/calendars/byron-heritage-day/
END:VEVENT
BEGIN:VEVENT
DTSTART;TZID=America/New_York:20180728T150000
DTEND;TZID=America/New_York:20180728T180000
DTSTAMP:20260420T034046
CREATED:20180222T153137Z
LAST-MODIFIED:20180611T141747Z
UID:7313-1532790000-1532800800@wbtai.com
SUMMARY:Beertavia
DESCRIPTION:Downtown Batavia Business Improvement District\, will host Beertavia\, Saturday\, July 28\, 3pm to 6pm. You must be 21 or over; tickets available at Adam Miller\, Angotti Beverage and Eli Fish Brewing\, or online at Beertavia.com. Event will be held at the corner of Bank Street and Alva Place in Downtown Batavia. ( for more information contact Beth Kemp  344-0900) \n 
URL:https://wbtai.com/calendars/beertavia/
END:VEVENT
BEGIN:VEVENT
DTSTART;TZID=America/New_York:20180729T113000
DTEND;TZID=America/New_York:20180729T170000
DTSTAMP:20260420T034046
CREATED:20180618T200546Z
LAST-MODIFIED:20180618T201142Z
UID:10276-1532863800-1532883600@wbtai.com
SUMMARY:St. Joseph Catholic School Anniversary
DESCRIPTION:St. Joseph’s Catholic School \, 2 Summit Street\, Batavia \, marks 150 year anniversary\, Sunday\, July 29.  Mass at 11:30am with Bishop Malone; and music\, food\, and games during afternoon. (Call 343-6154 for more information)
URL:https://wbtai.com/calendars/st-joseph-catholic-school-anniversary/
END:VEVENT
BEGIN:VEVENT
DTSTART;TZID=America/New_York:20180731T080000
DTEND;TZID=America/New_York:20180731T170000
DTSTAMP:20260420T034046
CREATED:20180621T144419Z
LAST-MODIFIED:20180621T144710Z
UID:10369-1533024000-1533056400@wbtai.com
SUMMARY:UMMC Golf & Bocce tournament
DESCRIPTION:Rochester Regional Health Golf\, Tennis\, and Bocce\, 29th annual tournament will be held Monday\, August 20\, at Stafford Country Club. Registration deadline is Tuesday\, July 31. For more information or registration contact the UMMC Foundation Office at 344-5300.
URL:https://wbtai.com/calendars/ummc-golf-bocce-tournament/
END:VEVENT
BEGIN:VEVENT
DTSTART;TZID=America/New_York:20180801T190000
DTEND;TZID=America/New_York:20180801T200000
DTSTAMP:20260420T034046
CREATED:20180604T202210Z
LAST-MODIFIED:20180604T202223Z
UID:9737-1533150000-1533153600@wbtai.com
SUMMARY:Batavia Concert Band
DESCRIPTION:Batavia Concert Band will play in Centennial Park Batavia\, Wednesday\, August 1\, 7pm. Bring your lawn chairs.
URL:https://wbtai.com/calendars/batavia-concert-band-6/
END:VEVENT
BEGIN:VEVENT
DTSTART;TZID=America/New_York:20180802T080000
DTEND;TZID=America/New_York:20180804T120000
DTSTAMP:20260420T034046
CREATED:20180627T151822Z
LAST-MODIFIED:20180801T134817Z
UID:10505-1533196800-1533384000@wbtai.com
SUMMARY:Garage Sale Extravaganza
DESCRIPTION:Gateway Home\, Garage Sale Extravaganza\, Thursday\, August 2 from 8am to 4pm; Friday\, August 3\, from 9am to 6pm; and Saturday\, August 4\, from 9am to noon.
URL:https://wbtai.com/calendars/garage-sale-extravaganza/
END:VEVENT
BEGIN:VEVENT
DTSTART;TZID=America/New_York:20180802T090000
DTEND;TZID=America/New_York:20180802T190000
DTSTAMP:20260420T034046
CREATED:20180731T155143Z
LAST-MODIFIED:20180731T155218Z
UID:11065-1533200400-1533236400@wbtai.com
SUMMARY:Book Sale
DESCRIPTION:Friends of the Richmond Memorial Library\, 19 Ross Street\, Batavia\, will hold their monthly book sale\, Thursday\, August 2\, 9am to 7pm.
URL:https://wbtai.com/calendars/book-sale-6/
END:VEVENT
BEGIN:VEVENT
DTSTART;TZID=America/New_York:20180802T180000
DTEND;TZID=America/New_York:20180802T200000
DTSTAMP:20260420T034046
CREATED:20180726T205003Z
LAST-MODIFIED:20180726T205228Z
UID:11007-1533232800-1533240000@wbtai.com
SUMMARY:GLOW Corporate Cup
DESCRIPTION:6th annual Glow Corporate Cup 5K run and walk will be held Thursday\, August 2 in Centennial Park\, Batavia. Race starts at 6pm with the region’s largest office party and networking event immediately following.  Proceeds benefit the YMCA.  Register online.
URL:https://wbtai.com/calendars/glow-corporate-cup/
END:VEVENT
BEGIN:VEVENT
DTSTART;TZID=America/New_York:20180802T190000
DTEND;TZID=America/New_York:20180802T223000
DTSTAMP:20260420T034046
CREATED:20180605T170355Z
LAST-MODIFIED:20180605T170409Z
UID:9866-1533236400-1533249000@wbtai.com
SUMMARY:Muckdogs Baseball
DESCRIPTION:Muckdogs vs. Mahoning Valley\, Thursday\, August 2\, 7pm\, Dwyer Stadium\, Batavia.   Tickets available at the box office or online. Listen live on WBTA.
URL:https://wbtai.com/calendars/muckdogs-baseball-21/
END:VEVENT
BEGIN:VEVENT
DTSTART;TZID=America/New_York:20180803T170000
DTEND;TZID=America/New_York:20180803T220000
DTSTAMP:20260420T034046
CREATED:20180605T151259Z
LAST-MODIFIED:20180605T151313Z
UID:9802-1533315600-1533333600@wbtai.com
SUMMARY:Rockin' the Downs
DESCRIPTION:Three Dog Night will Rock the Downs\, Friday\, August 3\, 5pm\, at Batavia Downs Gaming & Hotel\, Park Road\, Batavia. For more information and tickets go online.
URL:https://wbtai.com/calendars/rockin-the-downs-7/
END:VEVENT
BEGIN:VEVENT
DTSTART;TZID=America/New_York:20180803T190000
DTEND;TZID=America/New_York:20180803T210000
DTSTAMP:20260420T034046
CREATED:20180605T143904Z
LAST-MODIFIED:20180605T143924Z
UID:9781-1533322800-1533330000@wbtai.com
SUMMARY:Jackson Sq. Concert Series
DESCRIPTION:The Motown sounds of Mitty & the Followers will be heard Friday\, August 3rd\, in Jackson Square\, Downtown Batavia\, 7pm to 9pm. Bring your lawn chairs.
URL:https://wbtai.com/calendars/jackson-sq-concert-series-6/
END:VEVENT
BEGIN:VEVENT
DTSTART;TZID=America/New_York:20180803T190000
DTEND;TZID=America/New_York:20180803T223000
DTSTAMP:20260420T034046
CREATED:20180605T170603Z
LAST-MODIFIED:20180605T170618Z
UID:9868-1533322800-1533335400@wbtai.com
SUMMARY:Muckdogs Baseball
DESCRIPTION:Muckdogs vs. Mahoning Valley\, 7:05pm\, Friday\, August 3\, Dwyer Stadium\, Batavia. Tickets available online or at the box office. Listen live on WBTA.
URL:https://wbtai.com/calendars/muckdogs-baseball-22/
END:VEVENT
BEGIN:VEVENT
DTSTART;TZID=America/New_York:20180804T100000
DTEND;TZID=America/New_York:20180805T170000
DTSTAMP:20260420T034046
CREATED:20180726T193838Z
LAST-MODIFIED:20180726T193852Z
UID:11003-1533376800-1533488400@wbtai.com
SUMMARY:Wilder Weekend
DESCRIPTION:Genesee Country Village and Museum will host Wilder Weekend\, August 4th and 5th. Check out all the activities of 19th century prairie life inspired by the stories of the TV show “Little House on the Prairie”. For more information visit gcv.org.
URL:https://wbtai.com/calendars/wilder-weekend/
END:VEVENT
BEGIN:VEVENT
DTSTART;TZID=America/New_York:20180804T120000
DTEND;TZID=America/New_York:20180804T233000
DTSTAMP:20260420T034046
CREATED:20180720T174129Z
LAST-MODIFIED:20180720T174257Z
UID:10928-1533384000-1533425400@wbtai.com
SUMMARY:Walk of Hope
DESCRIPTION:Celebrate the survivors\, honor the fighting\, and remember those we have lost to cancer at the annual Walk of Hope\, Saturday\, August 4\, noon to mid-night at the LeRoy High School Track\, 9300 South Main Street Road\, LeRoy. The event includes music\, games\, food\, fun\, survivor’s lap\, luminaria lap\, and more. Proceeds benefit Genesee Cancer Assistance. Email Karen at ksamis@rochester.rr.com or register online. 
URL:https://wbtai.com/calendars/walk-of-hope/
END:VEVENT
BEGIN:VEVENT
DTSTART;TZID=America/New_York:20180804T190000
DTEND;TZID=America/New_York:20180804T223000
DTSTAMP:20260420T034046
CREATED:20180605T170809Z
LAST-MODIFIED:20180605T170834Z
UID:9870-1533409200-1533421800@wbtai.com
SUMMARY:Muckdogs Baseball
DESCRIPTION:Muckdogs vs. Mahoning Valley\, 7:05pm\, Saturday\, August 4\, at Dwyer Stadium\, Batavia. Tickets available at the box office or online. Listen live on WBTA.
URL:https://wbtai.com/calendars/muckdogs-baseball-23/
END:VEVENT
END:VCALENDAR