BEGIN:VCALENDAR
VERSION:2.0
PRODID:-//WBTA - ECPv6.14.0//NONSGML v1.0//EN
CALSCALE:GREGORIAN
METHOD:PUBLISH
X-ORIGINAL-URL:https://wbtai.com
X-WR-CALDESC:Events for WBTA
REFRESH-INTERVAL;VALUE=DURATION:PT1H
X-Robots-Tag:noindex
X-PUBLISHED-TTL:PT1H
BEGIN:VTIMEZONE
TZID:America/New_York
BEGIN:DAYLIGHT
TZOFFSETFROM:-0500
TZOFFSETTO:-0400
TZNAME:EDT
DTSTART:20180311T070000
END:DAYLIGHT
BEGIN:STANDARD
TZOFFSETFROM:-0400
TZOFFSETTO:-0500
TZNAME:EST
DTSTART:20181104T060000
END:STANDARD
END:VTIMEZONE
BEGIN:VEVENT
DTSTART;TZID=America/New_York:20180809T180000
DTEND;TZID=America/New_York:20180809T213000
DTSTAMP:20260419T202620
CREATED:20180731T204255Z
LAST-MODIFIED:20180731T204308Z
UID:11080-1533837600-1533850200@wbtai.com
SUMMARY:Reel Discussions\, Summer Reading Edition
DESCRIPTION:Come view the movie\, ” The Band Wagon” and join in discussions afterward\, Thursday\, August 9\, 6pm\, at the Richmond Memorial Library\, 19 Ross Street\, Batavia.
URL:https://wbtai.com/calendars/reel-discussions-summer-reading-edition/
END:VEVENT
BEGIN:VEVENT
DTSTART;TZID=America/New_York:20180809T190000
DTEND;TZID=America/New_York:20180809T223000
DTSTAMP:20260419T202620
CREATED:20180605T171035Z
LAST-MODIFIED:20180605T171118Z
UID:9872-1533841200-1533853800@wbtai.com
SUMMARY:Muckdogs Baseball
DESCRIPTION:Muckdogs vs. Auburn\, 7:05pm\, Thursday\, August 9\, at Dwyer Stadium\, Batavia. Tickets available at the box office or online. Listen live on WBTA.
URL:https://wbtai.com/calendars/muckdogs-baseball-24/
END:VEVENT
BEGIN:VEVENT
DTSTART;TZID=America/New_York:20180810T090000
DTEND;TZID=America/New_York:20180811T150000
DTSTAMP:20260419T202620
CREATED:20180726T151131Z
LAST-MODIFIED:20180726T151218Z
UID:10989-1533891600-1533999600@wbtai.com
SUMMARY:Book & Bake Sale
DESCRIPTION:St. Paul Lutheran School\, 31 Washington Avenue\, Batavia\, will host book and bake sale\, Friday and Saturday\, August 10 and 11th\, from 9am to 3pm. For more information call 343-0488.
URL:https://wbtai.com/calendars/book-bake-sale/
END:VEVENT
BEGIN:VEVENT
DTSTART;TZID=America/New_York:20180810T170000
DTEND;TZID=America/New_York:20180810T220000
DTSTAMP:20260419T202620
CREATED:20180605T151533Z
LAST-MODIFIED:20180605T151550Z
UID:9805-1533920400-1533938400@wbtai.com
SUMMARY:Rockin' the Downs
DESCRIPTION:Lee Ann Womack will close out the summer concert Rockin’ the Downs  series\, Friday\, August 10\, 5pm\, at the Batavia Downs Gaming & Hotel\, Park Road Batavia. For tickets and more information go online.
URL:https://wbtai.com/calendars/rockin-the-downs-8/
END:VEVENT
BEGIN:VEVENT
DTSTART;TZID=America/New_York:20180810T190000
DTEND;TZID=America/New_York:20180810T210000
DTSTAMP:20260419T202620
CREATED:20180605T144124Z
LAST-MODIFIED:20180605T144140Z
UID:9783-1533927600-1533934800@wbtai.com
SUMMARY:Jackson Sq. Concert Series
DESCRIPTION:The Ghost Riders will perform in Jackson Square\, downtown Batavia\, Friday\, August 10th\, 7pm\, as part of the BID summer concert series. Bring your lawn chairs.
URL:https://wbtai.com/calendars/jackson-sq-concert-series-7/
END:VEVENT
BEGIN:VEVENT
DTSTART;TZID=America/New_York:20180810T190000
DTEND;TZID=America/New_York:20180810T223000
DTSTAMP:20260419T202620
CREATED:20180605T171351Z
LAST-MODIFIED:20180605T171417Z
UID:9874-1533927600-1533940200@wbtai.com
SUMMARY:Muckdogs Baseball
DESCRIPTION:Muckdogs vs. Auburn\, 7:05pm\, Friday\, August 10\, Dwyer Stadium\, Batavia. Tickets available online or at the box office. Listen live on WBTA.
URL:https://wbtai.com/calendars/muckdogs-baseball-25/
END:VEVENT
BEGIN:VEVENT
DTSTART;TZID=America/New_York:20180810T193000
DTEND;TZID=America/New_York:20180818T220000
DTSTAMP:20260419T202620
CREATED:20180725T135430Z
LAST-MODIFIED:20180725T135532Z
UID:10976-1533929400-1534629600@wbtai.com
SUMMARY:Harvester 56 Theater
DESCRIPTION:Harvester 56 Theater presents the youth theater production of the Tony award winning musical\, ” Applause”\, August 10\, 11\, 17\, and 18\, at 7:30pm and on Sunday\, August 12\, at 2pm. Tickets available online or at the door.
URL:https://wbtai.com/calendars/harvester-56-theater/
END:VEVENT
BEGIN:VEVENT
DTSTART;TZID=America/New_York:20180811T080000
DTEND;TZID=America/New_York:20180811T170000
DTSTAMP:20260419T202620
CREATED:20180607T160146Z
LAST-MODIFIED:20180607T160158Z
UID:9990-1533974400-1534006800@wbtai.com
SUMMARY:Chapin Charity Golf Tournament
DESCRIPTION:Chapin International Golf Tournament will be played Saturday\, August 11\, at Terry Hills. Register with Norm Hubbard at 409-7575 or online. Proceeds benefit Justice for Children advocacy center.
URL:https://wbtai.com/calendars/chapin-charity-golf-tournament/
END:VEVENT
BEGIN:VEVENT
DTSTART;TZID=America/New_York:20180811T090000
DTEND;TZID=America/New_York:20180812T170000
DTSTAMP:20260419T202620
CREATED:20180731T203635Z
LAST-MODIFIED:20180731T203650Z
UID:11075-1533978000-1534093200@wbtai.com
SUMMARY:Purple Pony Treasures Sale
DESCRIPTION:Purple Pony Therapeutic Horsemanship will hold a treasures sale and fun day\, Saturday and Sunday\, August 11th and 12th\, 9am to 5pm. Event will be held at 8321 Lake Street Road\, LeRoy\, in a huge indoor horse arena. For more information call Karen at 880-1096. Purple Pony helps individuals with severe disabilities ride horses.
URL:https://wbtai.com/calendars/purple-pony-treasures-sale/
END:VEVENT
BEGIN:VEVENT
DTSTART;TZID=America/New_York:20180811T100000
DTEND;TZID=America/New_York:20180811T150000
DTSTAMP:20260419T202620
CREATED:20180620T184515Z
LAST-MODIFIED:20180620T184531Z
UID:10338-1533981600-1533999600@wbtai.com
SUMMARY:Hogs for Paws
DESCRIPTION:Hogs for Paws\, a fund raising event for our local Genesee County Animal Shelter\, will be held at Stan’s Harley Davidson\, West Saile Drive\, Batavia\, Saturday\, August 11\, 10am to 3pm. Stan’s Harley Davidson and Volunteers for Animals request you bring an item from the wish list and come out and join in on the fun. Wish list items: dog and cat food; small blankets & beds; bleach\, laundry soap\, paper towels; non-clumping cat liter or a monetary donation. ( more information: call Ashley at 343-9598)
URL:https://wbtai.com/calendars/hogs-for-paws/
END:VEVENT
BEGIN:VEVENT
DTSTART;TZID=America/New_York:20180812T120000
DTEND;TZID=America/New_York:20180812T170000
DTSTAMP:20260419T202620
CREATED:20180726T183730Z
LAST-MODIFIED:20180726T183746Z
UID:10997-1534075200-1534093200@wbtai.com
SUMMARY:Chef Russell Memorial Golf
DESCRIPTION:11 annual Chef Russell Memorial Golf Scramble to benefit Crossroads House and the Chef Russell Culinary Scholarship\, will be held Sunday\, August 12\, at the Batavia Country Club. Registration opens at noon with shotgun start at 1pm.  For more information and registration go on line.
URL:https://wbtai.com/calendars/chef-russell-memorial-golf/
END:VEVENT
BEGIN:VEVENT
DTSTART;TZID=America/New_York:20180815T160000
DTEND;TZID=America/New_York:20180815T170000
DTSTAMP:20260419T202620
CREATED:20180731T203914Z
LAST-MODIFIED:20180731T203927Z
UID:11077-1534348800-1534352400@wbtai.com
SUMMARY:The Little Mermaid
DESCRIPTION:Omnipresent Puppet Theater will perform\, ” The Little Mermaid”\, free\, at the Bergen Library\, 13 South Lake Street\, Bergen\, Wednesday\, August 15\, at 4pm.
URL:https://wbtai.com/calendars/the-little-mermaid/
END:VEVENT
BEGIN:VEVENT
DTSTART;TZID=America/New_York:20180815T190000
DTEND;TZID=America/New_York:20180815T223000
DTSTAMP:20260419T202620
CREATED:20180605T171614Z
LAST-MODIFIED:20180605T171626Z
UID:9876-1534359600-1534372200@wbtai.com
SUMMARY:Muckdogs Baseball
DESCRIPTION:Muckdogs vs. West Virginia\, 7:05pm\, Wednesday\, August 15\, Dwyer Stadium\, Batavia. Tickets available online or at the box office. Listen life on WBTA.
URL:https://wbtai.com/calendars/muckdogs-baseball-26/
END:VEVENT
BEGIN:VEVENT
DTSTART;TZID=America/New_York:20180816T110000
DTEND;TZID=America/New_York:20180816T180000
DTSTAMP:20260419T202620
CREATED:20180726T184035Z
LAST-MODIFIED:20180726T184151Z
UID:10999-1534417200-1534442400@wbtai.com
SUMMARY:Van Hulburt Golf
DESCRIPTION:18th annual Van Hulburt Memorial Golf Tournament to benefit Crossroads House will be held Thursday\, August 16\, at the Batavia Country Club. Registration starts at 11am; shotgun start at noon. For more information and registration contact Marty at 585-730-2809.
URL:https://wbtai.com/calendars/van-hulburt-golf/
END:VEVENT
BEGIN:VEVENT
DTSTART;TZID=America/New_York:20180816T160000
DTEND;TZID=America/New_York:20180816T190000
DTSTAMP:20260419T202620
CREATED:20180726T212803Z
LAST-MODIFIED:20180726T212947Z
UID:11009-1534435200-1534446000@wbtai.com
SUMMARY:Anti Rabies Clinic
DESCRIPTION:Genesee County Health Dept. will hold a free anti rabies clinic\, Thursday\, August 16\, 4pm to 7pm\, at the Genesee County Fairgrounds\, East Main Street Road\, Batavia. Each dog\, cat\, or ferret seeking a free vaccination must be accompanied by an adult who can control it. Voluntary donations accepted.
URL:https://wbtai.com/calendars/anti-rabies-clinic-2/
END:VEVENT
BEGIN:VEVENT
DTSTART;TZID=America/New_York:20180816T180000
DTEND;TZID=America/New_York:20180816T200000
DTSTAMP:20260419T202620
CREATED:20180809T201754Z
LAST-MODIFIED:20180809T201833Z
UID:11203-1534442400-1534449600@wbtai.com
SUMMARY:Unbound Pieces Art Show
DESCRIPTION:The public is invited to attend an opening reception for the art exhibit\, ” Unbound Pieces” featuring artists with ASD at Go ART!\, 201 East Main Street\, Batavia\, Thursday\, August 16\, 6pm to 8pm. Exhibit will be at Go Art! from August 9 thru October 6. Artist’s Henry Stratton\, Eric Hoffman\, and Ryan Gustman  will be featured.
URL:https://wbtai.com/calendars/unbound-pieces-art-show/
END:VEVENT
BEGIN:VEVENT
DTSTART;TZID=America/New_York:20180816T180000
DTEND;TZID=America/New_York:20180816T210000
DTSTAMP:20260419T202620
CREATED:20180604T141156Z
LAST-MODIFIED:20180604T141226Z
UID:9703-1534442400-1534453200@wbtai.com
SUMMARY:**Genesee County Women's Republican Club
DESCRIPTION:**  Save the date. Genesee County Women’s Republican Club will hold their Lucky Numbers Fundraiser Thursday\, August 16.  $ 30 per person.   More information to follow .
URL:https://wbtai.com/calendars/genesee-county-womens-republican-club/
END:VEVENT
BEGIN:VEVENT
DTSTART;TZID=America/New_York:20180816T190000
DTEND;TZID=America/New_York:20180816T223000
DTSTAMP:20260419T202620
CREATED:20180605T171829Z
LAST-MODIFIED:20180605T171842Z
UID:9878-1534446000-1534458600@wbtai.com
SUMMARY:Muckdogs Baseball
DESCRIPTION:Muckdogs vs. West Virginia\, Thursday\, August 16\, 7:05pm\, Dwyer Stadium\, Batavia. Tickets available online or at the box office. Listen life on WBTA.
URL:https://wbtai.com/calendars/muckdogs-baseball-27/
END:VEVENT
BEGIN:VEVENT
DTSTART;TZID=America/New_York:20180817T190000
DTEND;TZID=America/New_York:20180817T210000
DTSTAMP:20260419T202620
CREATED:20180605T144353Z
LAST-MODIFIED:20180605T144409Z
UID:9785-1534532400-1534539600@wbtai.com
SUMMARY:Jackson Sq. Concert Series
DESCRIPTION:Something Else\, will play 80’s and 90’s pop rock\, as part of the BID summer concert series in Jackson Square\, Downtown Batavia\, Friday\, August 17\, 7pm. Bring your lawn chairs.
URL:https://wbtai.com/calendars/jackson-sq-concert-series-8/
END:VEVENT
BEGIN:VEVENT
DTSTART;TZID=America/New_York:20180818T110000
DTEND;TZID=America/New_York:20180818T133000
DTSTAMP:20260419T202620
CREATED:20180810T153201Z
LAST-MODIFIED:20180810T153542Z
UID:11216-1534590000-1534599000@wbtai.com
SUMMARY:Free Family Picnic
DESCRIPTION:Batavia First United Methodist Church\, Lewiston Road\, Batavia\, will host a free family picnic\, Saturday\, August 18\, 11am to 1:30pm. Call 343-4708 for more information.
URL:https://wbtai.com/calendars/free-family-picnic/
END:VEVENT
BEGIN:VEVENT
DTSTART;TZID=America/New_York:20180819T080000
DTEND;TZID=America/New_York:20180819T170000
DTSTAMP:20260419T202620
CREATED:20180420T174020Z
LAST-MODIFIED:20180420T174033Z
UID:8732-1534665600-1534698000@wbtai.com
SUMMARY:Jim Thompson Memorial Golf Tournament
DESCRIPTION:Jim Thompson Memorial Golf Tournament\, Sunday\, August 19\, at the Batavia Country Club.  For more information and registration contact Joseph Maniace at 585-297-3754.
URL:https://wbtai.com/calendars/jim-thompson-memorial-golf-tournament/
END:VEVENT
BEGIN:VEVENT
DTSTART;TZID=America/New_York:20180819T153000
DTEND;TZID=America/New_York:20180819T183000
DTSTAMP:20260419T202620
CREATED:20180703T182729Z
LAST-MODIFIED:20180703T182808Z
UID:10618-1534692600-1534703400@wbtai.com
SUMMARY:Summer Serenade
DESCRIPTION:United Way’s 3rd annual Summer Serenade featuring the Genesee Symphony Orchestra will be held Sunday\, August 19\, 3:30pm\, at Mercy Grove\, Rt. 5\, LeRoy. Tickets available at LeRoy Country Club\, Roxy’s\, or from GSO or United Way board members. Proceeds benefit the United Way Backpack program and the GSO.
URL:https://wbtai.com/calendars/summer-serenade/
END:VEVENT
BEGIN:VEVENT
DTSTART;TZID=America/New_York:20180820T180000
DTEND;TZID=America/New_York:20180820T210000
DTSTAMP:20260419T202620
CREATED:20180813T144919Z
LAST-MODIFIED:20180813T144935Z
UID:11240-1534788000-1534798800@wbtai.com
SUMMARY:LeRoy Cruise Night
DESCRIPTION:LeRoy American Legion Post 576 will host a cruise night\, Monday\, August 20\, 6pm to 9pm at the Legion\, 53 West Main Street\, LeRoy.  Rain date will be Monday\, August 27.
URL:https://wbtai.com/calendars/leroy-cruise-night/
END:VEVENT
BEGIN:VEVENT
DTSTART;TZID=America/New_York:20180821T170000
DTEND;TZID=America/New_York:20180821T190000
DTSTAMP:20260419T202620
CREATED:20180810T152931Z
LAST-MODIFIED:20180810T152945Z
UID:11214-1534870800-1534878000@wbtai.com
SUMMARY:Stuffed Pepper Dinner
DESCRIPTION:Batavia First United Methodist Church\, Lewiston Road\, Batavia\, will hold a stuffed pepper dinner\, Tuesday\, August 21\, 5pm to 7pm. Children under the age of five are free. Takeouts available.
URL:https://wbtai.com/calendars/stuffed-pepper-dinner/
END:VEVENT
BEGIN:VEVENT
DTSTART;TZID=America/New_York:20180821T183000
DTEND;TZID=America/New_York:20180821T193000
DTSTAMP:20260419T202620
CREATED:20180801T224137Z
LAST-MODIFIED:20180801T224211Z
UID:11107-1534876200-1534879800@wbtai.com
SUMMARY:One Song
DESCRIPTION:The Manor House Senior Living\, 427 East Main Street\, Batavia\, presents\, ” One Song”\, a free outdoor musical performance\, Tuesday\, August 21\, 6:30pm\, in the back lawn Gazebo. Bring your lawn chairs.
URL:https://wbtai.com/calendars/one-song/
END:VEVENT
BEGIN:VEVENT
DTSTART;TZID=America/New_York:20180823T100000
DTEND;TZID=America/New_York:20180825T140000
DTSTAMP:20260419T202620
CREATED:20180820T200345Z
LAST-MODIFIED:20180820T200616Z
UID:11386-1535018400-1535205600@wbtai.com
SUMMARY:YWCA Garage Sale
DESCRIPTION:YWCA\, 301 North Street\, Batavia\, will hold a Garage Sale\, Thursday\, and Friday\, August 23 & 24th from 10am to 4pm and on Saturday\, August 25th from 10am to 2pm.
URL:https://wbtai.com/calendars/ywca-garage-sale/
END:VEVENT
BEGIN:VEVENT
DTSTART;TZID=America/New_York:20180823T180000
DTEND;TZID=America/New_York:20180823T220000
DTSTAMP:20260419T202620
CREATED:20180810T152626Z
LAST-MODIFIED:20180810T152646Z
UID:11212-1535047200-1535061600@wbtai.com
SUMMARY:Reel Discussions
DESCRIPTION:Come view the movie\, ” Murder on the Orient Express”\, Thursday\, August 23\, 6pm\, at the Richmond Memorial Library\, 19 Ross Street\, Batavia.
URL:https://wbtai.com/calendars/reel-discussions-9/
END:VEVENT
BEGIN:VEVENT
DTSTART;TZID=America/New_York:20180823T190000
DTEND;TZID=America/New_York:20180823T223000
DTSTAMP:20260419T202620
CREATED:20180605T172046Z
LAST-MODIFIED:20180605T172101Z
UID:9880-1535050800-1535063400@wbtai.com
SUMMARY:Muckdogs Baseball
DESCRIPTION:Muckdogs vs. Williamsport\, 7:o5pm\, Thursday\, August 23\, Dwyer Stadium\, Batavia. Tickets available on line or at the box office. Listen live on WBTA.
URL:https://wbtai.com/calendars/muckdogs-baseball-28/
END:VEVENT
BEGIN:VEVENT
DTSTART;TZID=America/New_York:20180824T080000
DTEND;TZID=America/New_York:20180824T170000
DTSTAMP:20260419T202620
CREATED:20180726T213749Z
LAST-MODIFIED:20180726T213811Z
UID:11011-1535097600-1535130000@wbtai.com
SUMMARY:Master Gardener Training
DESCRIPTION:Friday\, August 24\, is the last day for registration for the Master Gardener Training to be offered September 5th\, thru November 14th\, at Batavia’s Cornell Cooperative Extension\, 420 East Main Street. Class size is limited\, No walk ins allowed. Contact Brandie Waite at 585-343-3040 ext. 101 to register and more information.
URL:https://wbtai.com/calendars/master-gardener-training/
END:VEVENT
BEGIN:VEVENT
DTSTART;TZID=America/New_York:20180824T170000
DTEND;TZID=America/New_York:20180824T230000
DTSTAMP:20260419T202620
CREATED:20180720T172738Z
LAST-MODIFIED:20180720T172830Z
UID:10924-1535130000-1535151600@wbtai.com
SUMMARY:YWCA Nite at Races
DESCRIPTION:The YWCA will host a night at the Races at Batavia Downs\, Friday\, August 24th\, 5pm. Tickets available at the YWCA\, 301 North Street\, Batavia.
URL:https://wbtai.com/calendars/ywca-nite-at-races/
END:VEVENT
END:VCALENDAR