BEGIN:VCALENDAR
VERSION:2.0
PRODID:-//WBTA - ECPv6.14.0//NONSGML v1.0//EN
CALSCALE:GREGORIAN
METHOD:PUBLISH
X-WR-CALNAME:WBTA
X-ORIGINAL-URL:https://wbtai.com
X-WR-CALDESC:Events for WBTA
REFRESH-INTERVAL;VALUE=DURATION:PT1H
X-Robots-Tag:noindex
X-PUBLISHED-TTL:PT1H
BEGIN:VTIMEZONE
TZID:America/New_York
BEGIN:DAYLIGHT
TZOFFSETFROM:-0500
TZOFFSETTO:-0400
TZNAME:EDT
DTSTART:20230312T070000
END:DAYLIGHT
BEGIN:STANDARD
TZOFFSETFROM:-0400
TZOFFSETTO:-0500
TZNAME:EST
DTSTART:20231105T060000
END:STANDARD
END:VTIMEZONE
BEGIN:VEVENT
DTSTART;TZID=America/New_York:20231217T140000
DTEND;TZID=America/New_York:20231217T160000
DTSTAMP:20260421T001937
CREATED:20231121T170036Z
LAST-MODIFIED:20231121T170036Z
UID:40394-1702821600-1702828800@wbtai.com
SUMMARY:Children’s Christmas Party
DESCRIPTION:On Sunday\, December 17th from 2pm-4pm at 7068 North Bergen Road\, Bergen There will be kids arts & crafts\, story time\, cookie decorating and a visit with Santa.  Also\, vendors & basket raffles with drawings at 3:30pm. Children $5. Under 3 and adults are free. If you are interested in being a vendor or would like to donate a basket for this fundraiser for North Bergen Food Pantry call Pastor Dave Fish at 585-290-5487.
URL:https://wbtai.com/calendars/childrens-christmas-party/
END:VEVENT
BEGIN:VEVENT
DTSTART;TZID=America/New_York:20231203T140000
DTEND;TZID=America/New_York:20231203T140000
DTSTAMP:20260421T001937
CREATED:20231120T163458Z
LAST-MODIFIED:20231120T163458Z
UID:40363-1701612000-1701612000@wbtai.com
SUMMARY:The Alibis Comedy Show
DESCRIPTION:The Alibis a comedy by Johnathan Dorf\, Tyler Wiggins\, Kathryn Funkhouser\, Patrick Greene\, Mora V. Harris\, Carrie McCrossen\, Ian McWethy\, and Jason Pizzarello will be December 1st and 2nd at 7pm\, and December 3rd at 2pm.  Show will be at the Batavia High School 260 State Street\, Batavia.  $8.50 for advance sale or $10 general admission at the door\, go to showtix4u.com for more information.
URL:https://wbtai.com/calendars/the-alibis-comedy-show-2/
END:VEVENT
BEGIN:VEVENT
DTSTART;TZID=America/New_York:20231202T190000
DTEND;TZID=America/New_York:20231202T190000
DTSTAMP:20260421T001937
CREATED:20231120T163417Z
LAST-MODIFIED:20231120T163417Z
UID:40361-1701543600-1701543600@wbtai.com
SUMMARY:The Alibis Comedy Show
DESCRIPTION:The Alibis a comedy by Johnathan Dorf\, Tyler Wiggins\, Kathryn Funkhouser\, Patrick Greene\, Mora V. Harris\, Carrie McCrossen\, Ian McWethy\, and Jason Pizzarello will be December 1st and 2nd at 7pm\, and December 3rd at 2pm.  Show will be at the Batavia High School 260 State Street\, Batavia.  $8.50 for advance sale or $10 general admission at the door\, go to showtix4u.com for more information.
URL:https://wbtai.com/calendars/the-alibis-comedy-show/
END:VEVENT
BEGIN:VEVENT
DTSTART;TZID=America/New_York:20231201T190000
DTEND;TZID=America/New_York:20231201T190000
DTSTAMP:20260421T001937
CREATED:20231120T163336Z
LAST-MODIFIED:20231120T163336Z
UID:40359-1701457200-1701457200@wbtai.com
SUMMARY:The Alibis Comedy Show-A BHS Drama Club Black Box Production
DESCRIPTION:The Alibis a comedy by Johnathan Dorf\, Tyler Wiggins\, Kathryn Funkhouser\, Patrick Greene\, Mora V. Harris\, Carrie McCrossen\, Ian McWethy\, and Jason Pizzarello will be December 1st and 2nd at 7pm\, and December 3rd at 2pm.  Show will be at the Batavia High School 260 State Street\, Batavia.  $8.50 for advance sale or $10 general admission at the door\, go to showtix4u.com for more information.
URL:https://wbtai.com/calendars/the-alibis-comedy-show-a-bhs-drama-club-black-box-production/
END:VEVENT
BEGIN:VEVENT
DTSTART;TZID=America/New_York:20231125T100000
DTEND;TZID=America/New_York:20231125T150000
DTSTAMP:20260421T001937
CREATED:20231114T152331Z
LAST-MODIFIED:20231114T152331Z
UID:40226-1700906400-1700924400@wbtai.com
SUMMARY:Craft Vendor Sale
DESCRIPTION:The 2nd Annual Business Craft and Vendor Fair is Saturday\, November 25th from 10am-3pm at the St. Paul Lutheran Church and school\, at 31 Washington ave\, Batavia.  For More information call 585-343-0488.
URL:https://wbtai.com/calendars/craft-vendor-sale-3/
END:VEVENT
BEGIN:VEVENT
DTSTART;TZID=America/New_York:20231118T160000
DTEND;TZID=America/New_York:20231118T160000
DTSTAMP:20260421T001937
CREATED:20231003T144318Z
LAST-MODIFIED:20231003T144318Z
UID:39173-1700323200-1700323200@wbtai.com
SUMMARY:Night at the Downs
DESCRIPTION:The Genesee Cancer Assistance Night at the Downs is Saturday\, Nov. 18\, 2023.  Doors open at 4pm\, Appetizers are at 5pm and Buffeet Dinner is at 6pm\, Basket Raffle from 4-6:30pm.  Tickets are $35\, and includes $25 in free play.  Call 585-345-0417 or go to www.geneseecancerassistance.org for more information.
URL:https://wbtai.com/calendars/night-at-the-downs/
END:VEVENT
BEGIN:VEVENT
DTSTART;TZID=America/New_York:20231118T100000
DTEND;TZID=America/New_York:20231118T150000
DTSTAMP:20260421T001937
CREATED:20231103T133530Z
LAST-MODIFIED:20231103T133530Z
UID:40019-1700301600-1700319600@wbtai.com
SUMMARY:Christmas Bazaar Vendor and Craft Sale
DESCRIPTION:All Babies Cherished is having a Christmas Bazaar Vendor and Craft Sale on Saturday\, November 18 from 10-3 at St. Joseph’s School in Batavia.  Please Contact eventsabcherished@gmail.com
URL:https://wbtai.com/calendars/christmas-bazaar-vendor-and-craft-sale/
END:VEVENT
BEGIN:VEVENT
DTSTART;TZID=America/New_York:20231109T190000
DTEND;TZID=America/New_York:20231109T190000
DTSTAMP:20260421T001937
CREATED:20231023T142955Z
LAST-MODIFIED:20231023T142955Z
UID:39689-1699556400-1699556400@wbtai.com
SUMMARY:HLOM Trivia Night
DESCRIPTION:Join HLOM for Trivia Night @ the Museum on Thursday\, November 9\, at 7pm.  This month’s topic is the Cuban Missile Crisis.  Trivia will take place at GO ART! located at 201 E. Main St. Batavia.  Admission $5 or $3 for museum members.  Call 585-343-4727 for more information.
URL:https://wbtai.com/calendars/hlom-trivia-night-7/
END:VEVENT
BEGIN:VEVENT
DTSTART;TZID=America/New_York:20231107T190000
DTEND;TZID=America/New_York:20231107T190000
DTSTAMP:20260421T001937
CREATED:20231023T142652Z
LAST-MODIFIED:20231023T142652Z
UID:39687-1699383600-1699383600@wbtai.com
SUMMARY:HLOM Guest Speaker Series
DESCRIPTION:The Holland Land Office Museum is proud to announce the next presenter for the Guest Speaker Series on Tuesday\, November 7\, at 7pm\, with Steven Huff who will be presenting his newest work “Resting Among Us: Authors’ Grave sites in Upstate New York” Admission is $5 or $3 for museum members. Call 585-343-4727 for more information.
URL:https://wbtai.com/calendars/hlom-guest-speaker-series-7/
END:VEVENT
BEGIN:VEVENT
DTSTART;TZID=America/New_York:20231104T120000
DTEND;TZID=America/New_York:20231104T160000
DTSTAMP:20260421T001937
CREATED:20231003T164037Z
LAST-MODIFIED:20231003T164037Z
UID:39185-1699099200-1699113600@wbtai.com
SUMMARY:Crossroads House Basket Raffle
DESCRIPTION:The Crossroads House Fall\Christmas Basket Raffle is Saturday Nov. 4th from 12-4pm.  Pre-Sale tickets are available Friday Nov. 3rd from 3-6pm.  Need to be present to win.  A light lunch will be served Saturday only.  Batavia First Presbyterian Church on 300 East Main St. Batavia.  For more information go to crossroadshouse.com or call 585-343-3892.
URL:https://wbtai.com/calendars/crossroads-house-basket-raffle/
END:VEVENT
BEGIN:VEVENT
DTSTART;TZID=America/New_York:20231104T090000
DTEND;TZID=America/New_York:20231104T150000
DTSTAMP:20260421T001937
CREATED:20231103T133740Z
LAST-MODIFIED:20231103T133740Z
UID:40021-1699088400-1699110000@wbtai.com
SUMMARY:Holiday Happenings Craft & Vendor Show
DESCRIPTION:The annual Holiday Happenings Craft & Vendor Show at East Bethany Presbyterian is on Saturday\, November 4th from 9-3\, with 2 floors of vendors\, a huge basket raffle\, bake sale and food available for purchase.
URL:https://wbtai.com/calendars/holiday-happenings-craft-vendor-show/
END:VEVENT
BEGIN:VEVENT
DTSTART;TZID=America/New_York:20231101T190000
DTEND;TZID=America/New_York:20231101T190000
DTSTAMP:20260421T001937
CREATED:20231023T141700Z
LAST-MODIFIED:20231030T135720Z
UID:39685-1698865200-1698865200@wbtai.com
SUMMARY:HLOM Guest Speaker Series
DESCRIPTION:Wednesday\, November 1 2023 at 7pm is the next edition of its Guest Speaker Series with Civil War historian and author Chris Mackowski as he presents “Grant’s Last Battle”\, which details the difficulties that Ulysses S. Grant and his battle with throat cancer.  Admission is $5 or $3 for museum members.  Call 585-343-4727 for more information.
URL:https://wbtai.com/calendars/hlom-guest-speaker-series-6/
END:VEVENT
BEGIN:VEVENT
DTSTART;TZID=America/New_York:20231028T183000
DTEND;TZID=America/New_York:20231028T220000
DTSTAMP:20260421T001937
CREATED:20231017T151949Z
LAST-MODIFIED:20231017T151949Z
UID:39534-1698517800-1698530400@wbtai.com
SUMMARY:Ah\, Sweet Music!
DESCRIPTION:Desserts and Concert in memory of David Lange October 28\, 6:30pm at St. James\, 405 East Main St. Batavia.  6:30-7:15 dessert buffet\, 7:30 concert starts.  Tickets: Dessert and concert $25\, Concert only $20. Call 585-343-6802 for information.
URL:https://wbtai.com/calendars/ah-sweet-music/
END:VEVENT
BEGIN:VEVENT
DTSTART;TZID=America/New_York:20231028T170000
DTEND;TZID=America/New_York:20231028T220000
DTSTAMP:20260421T001937
CREATED:20231017T152600Z
LAST-MODIFIED:20231017T152600Z
UID:39536-1698512400-1698530400@wbtai.com
SUMMARY:Halloween Party
DESCRIPTION:October 28\, from 5:00-10:00 pm at the VFW Post 1602\, on 23 Edwards Street in Batavia is a Halloween party with music by the Front Porch Pickers.  Basket raffles\, food available 5:00-7:00pm\, Witches Brew (bloody mary’s) bring a dish to pass.  Costumes are encouraged\, open to the public.
URL:https://wbtai.com/calendars/halloween-party/
END:VEVENT
BEGIN:VEVENT
DTSTART;TZID=America/New_York:20231028T130000
DTEND;TZID=America/New_York:20231028T150000
DTSTAMP:20260421T001937
CREATED:20231023T143356Z
LAST-MODIFIED:20231023T143356Z
UID:39691-1698498000-1698505200@wbtai.com
SUMMARY:Trick or Treat
DESCRIPTION:Trick or Treat in Downtown Batavia at participating businesses on Saturday October 28th from 1-3pm.
URL:https://wbtai.com/calendars/trick-or-treat/
END:VEVENT
BEGIN:VEVENT
DTSTART;TZID=America/New_York:20231028T100000
DTEND;TZID=America/New_York:20231028T150000
DTSTAMP:20260421T001937
CREATED:20230907T184306Z
LAST-MODIFIED:20230907T184322Z
UID:38471-1698487200-1698505200@wbtai.com
SUMMARY:Lend a Paw
DESCRIPTION:Volunteers for Animals – Lend a paw auction\, will be held at Pudgies Lawn and Garden\, West Main Street\, Batavia\, Saturday\, October 28 from 10am to 3pm.
URL:https://wbtai.com/calendars/lend-a-paw/
END:VEVENT
BEGIN:VEVENT
DTSTART;TZID=America/New_York:20231026T160000
DTEND;TZID=America/New_York:20231026T190000
DTSTAMP:20260421T001937
CREATED:20231010T142541Z
LAST-MODIFIED:20231010T142541Z
UID:39357-1698336000-1698346800@wbtai.com
SUMMARY:Fundraiser for Lydia's Kitchen
DESCRIPTION:Come out for a fundraiser dinner to help benefit Lydia’s Kitchen on Thursday October 26th\, from 4-7pm at the 1st Baptist Church\, 306 E. Main St. Batavia\, NY 14020.  Chicken and Bisquits\, mashed potatoes\, corn\, beverage\, and dessert.  $12.00
URL:https://wbtai.com/calendars/fundraiser-for-lydias-kitchen/
END:VEVENT
BEGIN:VEVENT
DTSTART;TZID=America/New_York:20231022T130000
DTEND;TZID=America/New_York:20231022T190000
DTSTAMP:20260421T001937
CREATED:20231003T164753Z
LAST-MODIFIED:20231003T164753Z
UID:39187-1697979600-1698001200@wbtai.com
SUMMARY:Fundraiser for Tim Pitcher
DESCRIPTION:Sunday\, October 22\, 2023 from 1-7pm is a Fundraiser for Tim Pitcher at the Darien Center Fireman’s Rec. Hall\, on 10537 Alleghany rd\, Darien Center.  Suggested donation is $5\, Live music from such bands as Shaky Stage\, Bad Sign\, Front Porch Pickers\, and so many more.  Beer\, Wine\, Water and Food trucks will be available.
URL:https://wbtai.com/calendars/fundraiser-for-tim-pitcher/
END:VEVENT
BEGIN:VEVENT
DTSTART;TZID=America/New_York:20231021T140000
DTEND;TZID=America/New_York:20231021T160000
DTSTAMP:20260421T001937
CREATED:20231017T154015Z
LAST-MODIFIED:20231017T154015Z
UID:39540-1697896800-1697904000@wbtai.com
SUMMARY:Trunk or Treat
DESCRIPTION:The Batavia First United Methodist Church on 8221 Lewiston Rd\, Batavia\, will host a Trunk or Treat event from 2:00-4:00 pm on October 21st.  Face Painting\, Candy and Treats for all ages.  The most creative trunk wins a gift basket from local businesses:  Adam Miller Toys\, Foxprowl Collectables\, The Spa at Artimis\, Harringtons Produce\, Nuttys Play Den\, House of Bounce\, The Coffee Press\, Main Street Pizza\, Sweet Allys and Change InSight.
URL:https://wbtai.com/calendars/trunk-or-treat-3/
END:VEVENT
BEGIN:VEVENT
DTSTART;TZID=America/New_York:20231021T080000
DTEND;TZID=America/New_York:20231021T110000
DTSTAMP:20260421T001937
CREATED:20231002T153022Z
LAST-MODIFIED:20231002T153022Z
UID:39136-1697875200-1697886000@wbtai.com
SUMMARY:Really Big Radio Auction
DESCRIPTION:Join WBTA Saturday October 21st for our next really big radio auction.  Go to wbtai.com and click on the auction tab for details and items listed for bid.
URL:https://wbtai.com/calendars/really-big-radio-auction/
END:VEVENT
BEGIN:VEVENT
DTSTART;TZID=America/New_York:20231019T190000
DTEND;TZID=America/New_York:20231019T210000
DTSTAMP:20260421T001937
CREATED:20230911T142745Z
LAST-MODIFIED:20230911T142745Z
UID:38545-1697742000-1697749200@wbtai.com
SUMMARY:West Side Stories
DESCRIPTION:Join Connie Boyd on Thursday\, October 19th at 7pm for spooky\, sinister\, and weird documented stories from the West Side of Batavia’s past.  Tickets are $5 or $3 for museum members.  Contact the museum at 585-343-4727 to attend.
URL:https://wbtai.com/calendars/west-side-stories-2/
END:VEVENT
BEGIN:VEVENT
DTSTART;TZID=America/New_York:20231017T190000
DTEND;TZID=America/New_York:20231017T210000
DTSTAMP:20260421T001937
CREATED:20231002T150719Z
LAST-MODIFIED:20231002T150719Z
UID:39128-1697569200-1697576400@wbtai.com
SUMMARY:Stafford Meet the Candidate Night
DESCRIPTION:Come out Tuesday\, October 17\, 7-9pm at the Stafford Town Hall Route 237\, Stafford\, NY with moderator Dan Fisher\, former owner of WBTA\, and meet with the Candidates running for Town Council\, Town Supervisor and Town Judge.
URL:https://wbtai.com/calendars/stafford-meet-the-candidate-night/
END:VEVENT
BEGIN:VEVENT
DTSTART;TZID=America/New_York:20231017T170000
DTEND;TZID=America/New_York:20231017T183000
DTSTAMP:20260421T001937
CREATED:20231017T153214Z
LAST-MODIFIED:20231017T153243Z
UID:39538-1697562000-1697567400@wbtai.com
SUMMARY:Annual Pulled Pork Dinner
DESCRIPTION:Eat in or Take out until sold out annual Pulled Pork dinner Saturday\, October 28\, 5:00-6:30pm at the Batavia First United Methodist Church\, 8221 Lewiston Rd. Batavia.  BBQ Pulled Pork on a Roll\, Macaroni Salad\, Beans\, and a Brownies.  Adults $15:00\, Seniors and kids $12:00.  For tickets or for more information call 585-343-4708.
URL:https://wbtai.com/calendars/annual-pulled-pork-dinner/
END:VEVENT
BEGIN:VEVENT
DTSTART;TZID=America/New_York:20231014T180000
DTEND;TZID=America/New_York:20231014T200000
DTSTAMP:20260421T001937
CREATED:20230926T140917Z
LAST-MODIFIED:20230926T140917Z
UID:38981-1697306400-1697313600@wbtai.com
SUMMARY:A Murderous Affair
DESCRIPTION:The Truish Murder Mystery of Johnston L. Lynch is coming to the Batavia Country Club\, 7909 Byron rd. Batavia on Saturday October 14th from 6 to 8pm.  Tickets are $75 and it comes with a choice of dinner entree.  Call 585-343-4727 for tickets and more information.  All proceeds are going towards a fundraiser for the HLOM.
URL:https://wbtai.com/calendars/a-murderous-affair/
END:VEVENT
BEGIN:VEVENT
DTSTART;TZID=America/New_York:20231010T190000
DTEND;TZID=America/New_York:20231010T220000
DTSTAMP:20260421T001937
CREATED:20231002T151043Z
LAST-MODIFIED:20231002T151043Z
UID:39130-1696964400-1696975200@wbtai.com
SUMMARY:Batavia Society of Artists
DESCRIPTION:The Batavia Society of Artists is hosting artist Linda Fix on Tuesday October 10th at Go-Art/Seymour Place\, 201 E Main St\, Batavia starting at 7pm.  Linda will be demonstrating Alcohol Inks.  Non-Members welcome for a $5 fee.  Tavern 2.0.1 will be open for cash purchases.
URL:https://wbtai.com/calendars/batavia-society-of-artists-10/
END:VEVENT
BEGIN:VEVENT
DTSTART;TZID=America/New_York:20231008T110000
DTEND;TZID=America/New_York:20231008T140000
DTSTAMP:20260421T001937
CREATED:20230907T184050Z
LAST-MODIFIED:20230907T184057Z
UID:38469-1696762800-1696773600@wbtai.com
SUMMARY:Chicken BBQ
DESCRIPTION:St. Paul Lutheran Church\, 31 Washington Avenue\, Batavia\, will host a drive thru chicken bbq\, Sunday\, October 8\, from 11am to 2pm or while supply lasts. Call Diane at 356-8789 to reserve your tickets or call the church office.
URL:https://wbtai.com/calendars/chicken-bbq-48/
END:VEVENT
BEGIN:VEVENT
DTSTART;TZID=America/New_York:20231007T130000
DTEND;TZID=America/New_York:20231007T150000
DTSTAMP:20260421T001937
CREATED:20231002T152647Z
LAST-MODIFIED:20231002T152647Z
UID:39134-1696683600-1696690800@wbtai.com
SUMMARY:Geneseo Devils vs Oakfield Alabama-Elba
DESCRIPTION:Join 100.1fm\, 106.1fm\, and 1490am\, WBTA as we bring you live action from the field for the Geneseo Devils playing against Oakfield Alabama-Elba\, with play by play action called by Bob Brown and Paul Spiotta.  Game time is 7pm!
URL:https://wbtai.com/calendars/geneseo-devils-vs-oakfield-alabama-elba/
END:VEVENT
BEGIN:VEVENT
DTSTART;TZID=America/New_York:20231006T193000
DTEND;TZID=America/New_York:20231006T213000
DTSTAMP:20260421T001937
CREATED:20230911T143317Z
LAST-MODIFIED:20230911T143317Z
UID:38548-1696620600-1696627800@wbtai.com
SUMMARY:West Side Ghost Walks
DESCRIPTION:Join the HLOM for West Side Ghost Walks on Fridays in October.  Connie Boyd will take groups out October 6. 13. and 20.  Admission is $15 or $10 for museum members and reservations are required with purchase.  Tours are limited to 20 people\, and begins and ends at the museum.  call 585-343-4727.
URL:https://wbtai.com/calendars/west-side-ghost-walks-4/
END:VEVENT
BEGIN:VEVENT
DTSTART;TZID=America/New_York:20231006T190000
DTEND;TZID=America/New_York:20231006T210000
DTSTAMP:20260421T001937
CREATED:20231002T152330Z
LAST-MODIFIED:20231002T152330Z
UID:39132-1696618800-1696626000@wbtai.com
SUMMARY:Batavia Blue Devils vs Geneva Panthers
DESCRIPTION:Join WBTA on 100.1 fm\, 106.1 fm\, or 1490 am as we bring you local high school football.  Tune in Friday Oct. 6th at 7pm for the Batavia Blue Devils who play against the Geneva Panthers\, Broadcast on WBTA.
URL:https://wbtai.com/calendars/batavia-blue-devils-vs-geneva-panthers/
END:VEVENT
BEGIN:VEVENT
DTSTART;TZID=America/New_York:20230929T190000
DTEND;TZID=America/New_York:20230929T210000
DTSTAMP:20260421T001937
CREATED:20230911T142027Z
LAST-MODIFIED:20230911T142443Z
UID:38540-1696014000-1696021200@wbtai.com
SUMMARY:West Side Stories
DESCRIPTION:Friday\, September 29th join Connie Boyd as she shares spooky documented stories of the West Side of Batavia’s past. Tickets are $5 or $3 for museum members.  Call 585-343-4727 to attend.
URL:https://wbtai.com/calendars/west-side-stories/
END:VEVENT
END:VCALENDAR