BEGIN:VCALENDAR
VERSION:2.0
PRODID:-//WBTA - ECPv6.14.0//NONSGML v1.0//EN
CALSCALE:GREGORIAN
METHOD:PUBLISH
X-WR-CALNAME:WBTA
X-ORIGINAL-URL:https://wbtai.com
X-WR-CALDESC:Events for WBTA
REFRESH-INTERVAL;VALUE=DURATION:PT1H
X-Robots-Tag:noindex
X-PUBLISHED-TTL:PT1H
BEGIN:VTIMEZONE
TZID:America/New_York
BEGIN:DAYLIGHT
TZOFFSETFROM:-0500
TZOFFSETTO:-0400
TZNAME:EDT
DTSTART:20220313T070000
END:DAYLIGHT
BEGIN:STANDARD
TZOFFSETFROM:-0400
TZOFFSETTO:-0500
TZNAME:EST
DTSTART:20221106T060000
END:STANDARD
END:VTIMEZONE
BEGIN:VEVENT
DTSTART;TZID=America/New_York:20220730T090000
DTEND;TZID=America/New_York:20220730T150000
DTSTAMP:20260422T183810
CREATED:20220707T151333Z
LAST-MODIFIED:20220707T151454Z
UID:30860-1659171600-1659193200@wbtai.com
SUMMARY:Byron Yard Sales
DESCRIPTION:Town of Byron annual yards sales\, Saturday\, July 30\, starting at 9am. Go online for addresses of sales.
URL:https://wbtai.com/calendars/byron-yard-sales/
END:VEVENT
BEGIN:VEVENT
DTSTART;TZID=America/New_York:20220730T080000
DTEND;TZID=America/New_York:20220730T190000
DTSTAMP:20260422T183810
CREATED:20220404T174750Z
LAST-MODIFIED:20220404T174919Z
UID:29281-1659168000-1659207600@wbtai.com
SUMMARY:GCA Golf
DESCRIPTION:Genesee Cancer Assistance  27th annual Golf Tournament will be held Saturday\, July 30\, at Terry Hills Golf Course. To Sign up or for sponsor information contact Norm at 409-7575 or the GCA office at 345-0417.
URL:https://wbtai.com/calendars/gca-golf/
END:VEVENT
BEGIN:VEVENT
DTSTART;TZID=America/New_York:20220729T190000
DTEND;TZID=America/New_York:20220729T210000
DTSTAMP:20260422T183810
CREATED:20220608T165002Z
LAST-MODIFIED:20220608T165009Z
UID:30393-1659121200-1659128400@wbtai.com
SUMMARY:BID Concert Series
DESCRIPTION:Creek Bend will play for the BID Concert Series in Jackson Square Downtown Batavia\, Friday\, July 29\, 7pm. Bring your lawn chairs.
URL:https://wbtai.com/calendars/bid-concert-series/
END:VEVENT
BEGIN:VEVENT
DTSTART;TZID=America/New_York:20220729T170000
DTEND;TZID=America/New_York:20220729T220000
DTSTAMP:20260422T183810
CREATED:20220608T162945Z
LAST-MODIFIED:20220608T163008Z
UID:30377-1659114000-1659132000@wbtai.com
SUMMARY:Batavia Downs Concert Series
DESCRIPTION:Batavia Downs Concert Series welcomes 38 Special to the outdoor trackside stage Friday\, July 29. Doors open at 5pm.
URL:https://wbtai.com/calendars/batavia-downs-concert-series-9/
END:VEVENT
BEGIN:VEVENT
DTSTART;TZID=America/New_York:20220728T160000
DTEND;TZID=America/New_York:20220728T210000
DTSTAMP:20260422T183810
CREATED:20220613T142148Z
LAST-MODIFIED:20220613T142154Z
UID:30485-1659024000-1659042000@wbtai.com
SUMMARY:Faith at the Fair
DESCRIPTION:Faith at the Fair is a free Christian music festival to be held on Thursday\, July 28\, 4pm to 9pm at the Genesee County Fair\,Batavia.
URL:https://wbtai.com/calendars/faith-at-the-fair-3/
END:VEVENT
BEGIN:VEVENT
DTSTART;TZID=America/New_York:20220727T190000
DTEND;TZID=America/New_York:20220727T210000
DTSTAMP:20260422T183810
CREATED:20220615T163923Z
LAST-MODIFIED:20220615T163929Z
UID:30535-1658948400-1658955600@wbtai.com
SUMMARY:Batavia Concert Band
DESCRIPTION:Batavia Concert Band plays a free concert Wednesday\, July 27\, 7pm in Centennial Park. Bring your lawn Chairs.
URL:https://wbtai.com/calendars/batavia-concert-band-26/
END:VEVENT
BEGIN:VEVENT
DTSTART;TZID=America/New_York:20220727T090000
DTEND;TZID=America/New_York:20220730T180000
DTSTAMP:20260422T183810
CREATED:20220623T163812Z
LAST-MODIFIED:20220623T163829Z
UID:30649-1658912400-1659204000@wbtai.com
SUMMARY:Crossroads House Garage Sale
DESCRIPTION:Crossroads House\, 11 Liberty Street\, Batavia\, will host their annual Garage Sale\, Thursday\, and Friday\, July 28\, and 29 from 9am to 6pm and on Saturday\, July 30 from 9am to noon. A Pre-sale event will be available on Wednesday\, July 27\, from 9am to 1pm for a $ 5.00 donation.
URL:https://wbtai.com/calendars/crossroads-house-garage-sale-4/
END:VEVENT
BEGIN:VEVENT
DTSTART;TZID=America/New_York:20220726T100000
DTEND;TZID=America/New_York:20220730T160000
DTSTAMP:20260422T183810
CREATED:20220428T151958Z
LAST-MODIFIED:20220428T152011Z
UID:29643-1658829600-1659196800@wbtai.com
SUMMARY:History Heroes Summer Camp
DESCRIPTION:Children ages 7 to 12 are invited to participate in the Holland Land Office Museum summer program\, ” Rockin’  History of the 1950’s”\, Tuesday thru Saturday\, July 26th thru 30th\, from 10am to 4pm. Call Ryan at 343-4727 for more information and registration.
URL:https://wbtai.com/calendars/history-heroes-summer-camp/
END:VEVENT
BEGIN:VEVENT
DTSTART;TZID=America/New_York:20220725T103000
DTEND;TZID=America/New_York:20220725T190000
DTSTAMP:20260422T183810
CREATED:20220510T180641Z
LAST-MODIFIED:20220510T180648Z
UID:29836-1658745000-1658775600@wbtai.com
SUMMARY:Arc Glow Golf Tennis Bocce Tournament
DESCRIPTION:Arc GLOW Golf\, Tennis\, and Bocce Tournament will be held Monday\, July 25\, (Christmas in July)\, at the Stafford Country Club and Emory Park\, Stafford. Golf\, scramble shotgun start at noon with Bocce and Tennis starting at 1pm. Call Sandy K for registration and more information ( 343-1123\, ext. 1715. )
URL:https://wbtai.com/calendars/arc-glow-golf-tennis-bocce-tournament/
END:VEVENT
BEGIN:VEVENT
DTSTART;TZID=America/New_York:20220723T160000
DTEND;TZID=America/New_York:20220723T180000
DTSTAMP:20260422T183810
CREATED:20220706T173633Z
LAST-MODIFIED:20220706T173640Z
UID:30835-1658592000-1658599200@wbtai.com
SUMMARY:Spaghetti Dinner
DESCRIPTION:There will be a spaghetti dinner to benefit Jenna Pearl\, Saturday\, July 23\, at the Bethany Volunteer Firehall\,  for more information call Lynne at 409-3306.
URL:https://wbtai.com/calendars/spaghetti-dinner-5/
END:VEVENT
BEGIN:VEVENT
DTSTART;TZID=America/New_York:20220723T080000
DTEND;TZID=America/New_York:20220730T220000
DTSTAMP:20260422T183810
CREATED:20220719T193957Z
LAST-MODIFIED:20220719T194006Z
UID:31064-1658563200-1659218400@wbtai.com
SUMMARY:Genesee County Fair
DESCRIPTION:It’s time for the Genesee County Fair! July 23 through the 30th. Animal exhibits\, stock car races\, demolition derby\,food\, and great entertainment!
URL:https://wbtai.com/calendars/genesee-county-fair-3/
END:VEVENT
BEGIN:VEVENT
DTSTART;TZID=America/New_York:20220723T070000
DTEND;TZID=America/New_York:20220723T110000
DTSTAMP:20260422T183810
CREATED:20220608T172500Z
LAST-MODIFIED:20220719T193629Z
UID:30416-1658559600-1658574000@wbtai.com
SUMMARY:Christmas in July
DESCRIPTION:Join us Saturday\, July 23\, for the next edition of the WBTA Really BIG Radio Auction – It’s Christmas in July! Watch our website page for items going up for bid! It’s so BIG we have to start an hour earlier – Join us at 7am!
URL:https://wbtai.com/calendars/christmas-in-july-3/
END:VEVENT
BEGIN:VEVENT
DTSTART;TZID=America/New_York:20220722T203000
DTEND;TZID=America/New_York:20220724T213000
DTSTAMP:20260422T183810
CREATED:20220608T160212Z
LAST-MODIFIED:20220608T160225Z
UID:30363-1658521800-1658698200@wbtai.com
SUMMARY:Bible School
DESCRIPTION:Alexander United Methodist Church\, will hold their vacation bible school July 22nd thru July 24th for kids entering grades K – 6th grade. Program starts at 8:30pm each evening \n(for more information contact the church at 591-1765) \n  \n  \n  \n 
URL:https://wbtai.com/calendars/bible-school/
END:VEVENT
BEGIN:VEVENT
DTSTART;TZID=America/New_York:20220722T190000
DTEND;TZID=America/New_York:20220722T210000
DTSTAMP:20260422T183810
CREATED:20220608T164823Z
LAST-MODIFIED:20220608T164830Z
UID:30391-1658516400-1658523600@wbtai.com
SUMMARY:The Ohms Band
DESCRIPTION:The Ohms Band takes the Jackson Square stage in downtown Batavia\, Friday\, July 22\, 7pm  Bring your lawn chairs
URL:https://wbtai.com/calendars/the-ohms-band/
END:VEVENT
BEGIN:VEVENT
DTSTART;TZID=America/New_York:20220722T170000
DTEND;TZID=America/New_York:20220722T220000
DTSTAMP:20260422T183810
CREATED:20220608T162803Z
LAST-MODIFIED:20220608T162812Z
UID:30375-1658509200-1658527200@wbtai.com
SUMMARY:Batavia Downs Concert Series
DESCRIPTION:Molly Hatchet with Blackfoot will appear trackside at Batavia Downs Concert Series\, Friday\, July 22. Gates open at 5pm.
URL:https://wbtai.com/calendars/batavia-downs-concert-series-8/
END:VEVENT
BEGIN:VEVENT
DTSTART;TZID=America/New_York:20220721T190000
DTEND;TZID=America/New_York:20220721T200000
DTSTAMP:20260422T183810
CREATED:20220706T174840Z
LAST-MODIFIED:20220706T175346Z
UID:30845-1658430000-1658433600@wbtai.com
SUMMARY:HLOM Trivia Night
DESCRIPTION:Apollo 11 Mission will be the topic for the next Holland Land Office Museum trivia night\, Thursday\, July 21\, 7pm. Reservations at 343-4727.
URL:https://wbtai.com/calendars/hlom-trivia-night-6/
END:VEVENT
BEGIN:VEVENT
DTSTART;TZID=America/New_York:20220720T190000
DTEND;TZID=America/New_York:20220720T210000
DTSTAMP:20260422T183810
CREATED:20220615T163640Z
LAST-MODIFIED:20220615T163646Z
UID:30533-1658343600-1658350800@wbtai.com
SUMMARY:Batavia Concert Band
DESCRIPTION:Batavia Concert Band will play in Centennial Park\, Wednesday\, July 20\, 7pm. Bring your lawn chairs. Rain venue will be in the Stuart Steiner Theatre\, GCC.
URL:https://wbtai.com/calendars/batavia-concert-band-25/
END:VEVENT
BEGIN:VEVENT
DTSTART;TZID=America/New_York:20220716T140000
DTEND;TZID=America/New_York:20220716T160000
DTSTAMP:20260422T183810
CREATED:20220707T150323Z
LAST-MODIFIED:20220707T150329Z
UID:30854-1657980000-1657987200@wbtai.com
SUMMARY:Mary Todd Lincoln
DESCRIPTION:Laura Keyes\, as Mary Todd Lincoln\, visits the Richmond Memorial Library\, Saturday\, July 16\, 2pm. This free presentation features Mrs. Lincoln having tea discussing both politics\, social customs\, and Mr. Lincoln’s love letters to her.
URL:https://wbtai.com/calendars/mary-todd-lincoln/
END:VEVENT
BEGIN:VEVENT
DTSTART;TZID=America/New_York:20220715T190000
DTEND;TZID=America/New_York:20220715T210000
DTSTAMP:20260422T183810
CREATED:20220608T164653Z
LAST-MODIFIED:20220608T164659Z
UID:30389-1657911600-1657918800@wbtai.com
SUMMARY:Jackson Square Concert
DESCRIPTION:Downtown Batavia Jackson Square will be the place for the BID Concert Series\, welcoming Don Newcomb Band\, Friday\, July 15\, 7pm. Bring your lawn chairs.
URL:https://wbtai.com/calendars/jackson-square-concert-19/
END:VEVENT
BEGIN:VEVENT
DTSTART;TZID=America/New_York:20220715T170000
DTEND;TZID=America/New_York:20220715T220000
DTSTAMP:20260422T183810
CREATED:20220608T162605Z
LAST-MODIFIED:20220608T162622Z
UID:30373-1657904400-1657922400@wbtai.com
SUMMARY:Batavia Downs Concert Series
DESCRIPTION:Batavia Downs\, Park Road\, welcomes Herman’s Hermits\, starring Peter Noone\, and the Grass Roots\, Friday\, July 15 . Gates open at 5pm.
URL:https://wbtai.com/calendars/batavia-downs-concert-series-7/
END:VEVENT
BEGIN:VEVENT
DTSTART;TZID=America/New_York:20220715T160000
DTEND;TZID=America/New_York:20220715T180000
DTSTAMP:20260422T183810
CREATED:20220706T174307Z
LAST-MODIFIED:20220706T174314Z
UID:30841-1657900800-1657908000@wbtai.com
SUMMARY:Pulled Pork Dinner
DESCRIPTION:Batavia First United Methodist Church\, Lewiston Road\, will host a pulled pork dinner\, Friday\, July 15\, from 4pm to 6pm or sold out. Drive Thru ONLY.
URL:https://wbtai.com/calendars/pulled-pork-dinner-5/
END:VEVENT
BEGIN:VEVENT
DTSTART;TZID=America/New_York:20220714T180000
DTEND;TZID=America/New_York:20220714T220000
DTSTAMP:20260422T183810
CREATED:20220707T151104Z
LAST-MODIFIED:20220707T151110Z
UID:30858-1657821600-1657836000@wbtai.com
SUMMARY:Reel Discussions
DESCRIPTION:“Blue Hawaii” will be the feature film\, Thursday\, July 14\, 6pm\, at the Richmond Memorial Library\, 19 Ross Street\, Batavia. Stay for discussions afterwards.  Call 343-9550 for more information.
URL:https://wbtai.com/calendars/reel-discussions-34/
END:VEVENT
BEGIN:VEVENT
DTSTART;TZID=America/New_York:20220714T080000
DTEND;TZID=America/New_York:20220714T170000
DTSTAMP:20260422T183810
CREATED:20220601T135625Z
LAST-MODIFIED:20220601T135636Z
UID:30231-1657785600-1657818000@wbtai.com
SUMMARY:Stop - DWI
DESCRIPTION:Genesee County Youth Bureau Stop DWI night at the Ballpark will be held Thursday\, July 14 at Dwyer Stadium.
URL:https://wbtai.com/calendars/stop-dwi/
END:VEVENT
BEGIN:VEVENT
DTSTART;TZID=America/New_York:20220713T190000
DTEND;TZID=America/New_York:20220713T210000
DTSTAMP:20260422T183810
CREATED:20220615T163447Z
LAST-MODIFIED:20220615T163453Z
UID:30531-1657738800-1657746000@wbtai.com
SUMMARY:Batavia Concert Band
DESCRIPTION:Wednesday\, July 13\, enjoy a free concert by the Batavia Concert Band in Centennial Park\, 7pm. Bring your lawn chairs.
URL:https://wbtai.com/calendars/batavia-concert-band-24/
END:VEVENT
BEGIN:VEVENT
DTSTART;TZID=America/New_York:20220713T190000
DTEND;TZID=America/New_York:20220713T200000
DTSTAMP:20260422T183810
CREATED:20220706T174634Z
LAST-MODIFIED:20220706T174640Z
UID:30843-1657738800-1657742400@wbtai.com
SUMMARY:Paranormal
DESCRIPTION:The Paranormal History of Genesee County by Mason Winfield will be the topic for the Holland Land Office Museum guest speaker series\, Wednesday\, July 13\, 7pm. Reservations at 343-4727.
URL:https://wbtai.com/calendars/paranormal/
END:VEVENT
BEGIN:VEVENT
DTSTART;TZID=America/New_York:20220713T180000
DTEND;TZID=America/New_York:20220730T210000
DTSTAMP:20260422T183810
CREATED:20220607T144608Z
LAST-MODIFIED:20220607T145055Z
UID:30311-1657735200-1659214800@wbtai.com
SUMMARY:Creative Writing Workshop
DESCRIPTION:Richmond Memorial Library will host a four week  creative writing workshop series\, starting July 13 at 6pm. Program open to high school students age 15 and over and adults of all ages. Registration is required. Classes are free but limited in size. Call 343-9550 to register. More information available online.
URL:https://wbtai.com/calendars/creative-writing-workshop/
END:VEVENT
BEGIN:VEVENT
DTSTART;TZID=America/New_York:20220712T180000
DTEND;TZID=America/New_York:20220712T200000
DTSTAMP:20260422T183810
CREATED:20220706T174028Z
LAST-MODIFIED:20220706T174039Z
UID:30838-1657648800-1657656000@wbtai.com
SUMMARY:Batavia Society of Artists
DESCRIPTION:Batavia Society of artists will host a demonstration on painting outdoors\, Tuesday\, July 12\, 6pm to 8pm in the backyard at Karen’s Yarn\, Paper\, Sissors\, 550 East Main Street\, Batavia. Bring a lawn chair.
URL:https://wbtai.com/calendars/batavia-society-of-artists-9/
END:VEVENT
BEGIN:VEVENT
DTSTART;TZID=America/New_York:20220711T080000
DTEND;TZID=America/New_York:20220711T170000
DTSTAMP:20260422T183810
CREATED:20220706T173041Z
LAST-MODIFIED:20220706T173313Z
UID:30833-1657526400-1657558800@wbtai.com
SUMMARY:Challenger Baseball
DESCRIPTION:Boys and girls ages 5 to 21 with developmental and other disabilities are invited to sign up for Challenger Baseball\, now thru Saturday\, July 23. Deadline to receive a T shirt is Monday\, July 11. Event held 11am to 1pm on the 23rd. at Dwyer Stadium\, Cost is free if you sign up prior to deadline. For more information contact the YMCA at 344-1664.
URL:https://wbtai.com/calendars/challenger-baseball-2/
END:VEVENT
BEGIN:VEVENT
DTSTART;TZID=America/New_York:20220708T190000
DTEND;TZID=America/New_York:20220708T210000
DTSTAMP:20260422T183810
CREATED:20220608T164421Z
LAST-MODIFIED:20220608T164427Z
UID:30387-1657306800-1657314000@wbtai.com
SUMMARY:Jackson Square Concert
DESCRIPTION:Skycats will perform in Jackson Square\, Downtown Batavia Friday\, July 8\, 7pm\, as part of the BID Concert series. Bring your lawn chairs.
URL:https://wbtai.com/calendars/jackson-square-concert-18/
END:VEVENT
BEGIN:VEVENT
DTSTART;TZID=America/New_York:20220708T170000
DTEND;TZID=America/New_York:20220708T220000
DTSTAMP:20260422T183810
CREATED:20220608T162351Z
LAST-MODIFIED:20220608T162358Z
UID:30371-1657299600-1657317600@wbtai.com
SUMMARY:Batavia Downs Concert Series
DESCRIPTION:Theory of a Deadman headlines for the Batavia Downs Concert Series\, Friday\, July 8. Doors open at 5pm.
URL:https://wbtai.com/calendars/batavia-downs-concert-series-6/
END:VEVENT
END:VCALENDAR