BEGIN:VCALENDAR
VERSION:2.0
PRODID:-//WBTA - ECPv6.14.0//NONSGML v1.0//EN
CALSCALE:GREGORIAN
METHOD:PUBLISH
X-WR-CALNAME:WBTA
X-ORIGINAL-URL:https://wbtai.com
X-WR-CALDESC:Events for WBTA
REFRESH-INTERVAL;VALUE=DURATION:PT1H
X-Robots-Tag:noindex
X-PUBLISHED-TTL:PT1H
BEGIN:VTIMEZONE
TZID:America/New_York
BEGIN:DAYLIGHT
TZOFFSETFROM:-0500
TZOFFSETTO:-0400
TZNAME:EDT
DTSTART:20260308T070000
END:DAYLIGHT
BEGIN:STANDARD
TZOFFSETFROM:-0400
TZOFFSETTO:-0500
TZNAME:EST
DTSTART:20261101T060000
END:STANDARD
END:VTIMEZONE
BEGIN:VEVENT
DTSTART;TZID=America/New_York:20260506T170000
DTEND;TZID=America/New_York:20260506T200000
DTSTAMP:20260424T074448
CREATED:20260422T155129Z
LAST-MODIFIED:20260422T155129Z
UID:47699-1778086800-1778097600@wbtai.com
SUMMARY:Night at the Museum
DESCRIPTION:Night at the Museum May 6th 5-8pm at the Holland Land Office Museum.  Museum staff will be dressed in historical clothes to read history picture books to kids.
URL:https://wbtai.com/calendars/night-at-the-museum-2/
END:VEVENT
BEGIN:VEVENT
DTSTART;TZID=America/New_York:20260507T190000
DTEND;TZID=America/New_York:20260507T190000
DTSTAMP:20260424T074448
CREATED:20260420T143640Z
LAST-MODIFIED:20260420T143640Z
UID:47572-1778180400-1778180400@wbtai.com
SUMMARY:Open House
DESCRIPTION:Corfu Grange will host an Open House on Thursday May 7th at 7:00 PM\, 71 Alleghany Rd\, Corfu. Guest speaker Greg Kinal will be speaking on George Washington. Refreshments will be served.
URL:https://wbtai.com/calendars/open-house-3/
END:VEVENT
BEGIN:VEVENT
DTSTART;TZID=America/New_York:20260521T190000
DTEND;TZID=America/New_York:20260521T190000
DTSTAMP:20260424T074448
CREATED:20260130T170348Z
LAST-MODIFIED:20260130T170348Z
UID:46905-1779390000-1779390000@wbtai.com
SUMMARY:Music at St. Mark's
DESCRIPTION:Thursday May. 21\, join the Creek Band with music of Bluegass at the St. Mark’s Episcopal Church\, 1 East main St.\, Leroy.  Free
URL:https://wbtai.com/calendars/music-at-st-marks-13/
END:VEVENT
END:VCALENDAR