BEGIN:VCALENDAR
VERSION:2.0
PRODID:-//WBTA - ECPv6.14.0//NONSGML v1.0//EN
CALSCALE:GREGORIAN
METHOD:PUBLISH
X-ORIGINAL-URL:https://wbtai.com
X-WR-CALDESC:Events for WBTA
REFRESH-INTERVAL;VALUE=DURATION:PT1H
X-Robots-Tag:noindex
X-PUBLISHED-TTL:PT1H
BEGIN:VTIMEZONE
TZID:America/New_York
BEGIN:DAYLIGHT
TZOFFSETFROM:-0500
TZOFFSETTO:-0400
TZNAME:EDT
DTSTART:20180311T070000
END:DAYLIGHT
BEGIN:STANDARD
TZOFFSETFROM:-0400
TZOFFSETTO:-0500
TZNAME:EST
DTSTART:20181104T060000
END:STANDARD
END:VTIMEZONE
BEGIN:VEVENT
DTSTART;TZID=America/New_York:20180201T090000
DTEND;TZID=America/New_York:20180201T190000
DTSTAMP:20260420T032617
CREATED:20180130T183329Z
LAST-MODIFIED:20180130T183341Z
UID:6570-1517475600-1517511600@wbtai.com
SUMMARY:Book Sale
DESCRIPTION:Friends of the Richmond Memorial Library\, 19 Ross Street\, Batavia\, will hold their monthly book sale\, Thursday\, February 1\, from 9am to 7pm. A large selection of mysteries\, science fiction\, large print books\, biographies\, novels\, and children’s books will be available.
URL:https://wbtai.com/calendars/book-sale-2/
LOCATION:Richmond Memorial Library\, 19 Ross St.\, Batavia NY
END:VEVENT
BEGIN:VEVENT
DTSTART;TZID=America/New_York:20180203T100000
DTEND;TZID=America/New_York:20180203T120000
DTSTAMP:20260420T032617
CREATED:20180131T164024Z
LAST-MODIFIED:20180131T164038Z
UID:6600-1517652000-1517659200@wbtai.com
SUMMARY:Special Friends Ride & Fun Day
DESCRIPTION:Genesee Sno Packers and Y Challenger Sports present\, Special Friends Ride and Fun Day\, Saturday\, February 3\, 10am\, at the Sno Packers Maintenance Facility\, 102 South Pearl Street\, Oakfield.
URL:https://wbtai.com/calendars/special-friends-ride-fun-day/
END:VEVENT
BEGIN:VEVENT
DTSTART;TZID=America/New_York:20180203T100000
DTEND;TZID=America/New_York:20180203T140000
DTSTAMP:20260420T032617
CREATED:20180126T151719Z
LAST-MODIFIED:20180126T151719Z
UID:6497-1517652000-1517666400@wbtai.com
SUMMARY:The EOC Health & Wellness Fair
DESCRIPTION:Saturday\, February 3 at 10 AM – 2 PM \nThe EOC – The Essential Oil Center\n4152 West Main Street Rd – Valu Plaza REAR ENTRANCE\, Batavia \nJoin us for a day of education and fun! Stop out anytime and check out all the great vendors/presenters. Learn about natural and holistic methods of taking care of your mind and body! \nVendors/Presenters/Services:\nTherapy Through Massage – Kayla Machniak\nLicata Chiropractic – Sandra Licata\nITOVI – Michelle Gillard\nBEMER – Jodi Coburn & Steve Ognibene\nReiki – Kelly Crowe\nDiffuser Jewelry – Chris Ariyaratnam\nWaterCure USA – Drew Orton\nSandra Marchese – Aroma Freedom Technique\nYoung Living Essential Oils – Vicki Wood & Michelle Gillard \nBasket Raffle with donations from all the vendors above and more! Admission is FREE! Vendors will be offering services at no charge or a small fee for their services. Prices will be posted at each table. \nNingXia Red Bar & Swag Bags to the first 50 people
URL:https://wbtai.com/calendars/the-eoc-health-wellness-fair/
LOCATION:The EOC – The Essential Oil Center 4152 West Main Street Rd\, Batavia 14020\, 4152 West Main Street Road\, Batavia\, NY\, 14020\, United States
END:VEVENT
BEGIN:VEVENT
DTSTART;TZID=America/New_York:20180203T130000
DTEND;TZID=America/New_York:20180203T150000
DTSTAMP:20260420T032617
CREATED:20180105T173130Z
LAST-MODIFIED:20180105T173143Z
UID:5804-1517662800-1517670000@wbtai.com
SUMMARY:Hockey Game
DESCRIPTION:WBTA will broadcast live the hockey game between Genesee Batavia and Brockport on Saturday\, February 3\, 1pm from the Faletti Ice Arena.
URL:https://wbtai.com/calendars/hockey-game-2/
END:VEVENT
BEGIN:VEVENT
DTSTART;TZID=America/New_York:20180203T153000
DTEND;TZID=America/New_York:20180203T190000
DTSTAMP:20260420T032617
CREATED:20180131T193149Z
LAST-MODIFIED:20180131T193201Z
UID:6608-1517671800-1517684400@wbtai.com
SUMMARY:St. Paul School Event
DESCRIPTION:St. Paul Lutheran School\, 31 Washington Street\, Batavia\, will host a live auction Saturday\, February 3\, with snacks and bake sale\, to raise funds for the school. Doors open at 3:30pm; auction starts at 4pm.
URL:https://wbtai.com/calendars/st-paul-school-event/
END:VEVENT
BEGIN:VEVENT
DTSTART;TZID=America/New_York:20180203T180000
DTEND;TZID=America/New_York:20180203T190000
DTSTAMP:20260420T032617
CREATED:20180201T193244Z
LAST-MODIFIED:20180201T193258Z
UID:6638-1517680800-1517684400@wbtai.com
SUMMARY:Cancelled:  Asteria String Quartet
DESCRIPTION:Genesee Symphony Orchestra has had to cancel the Asteria String Quartet scheduled for Saturday\, February 3\, at the Dibble Family Event Center. Ticket holders desiring a refund can contract Roxy at 356-9635.
URL:https://wbtai.com/calendars/cancelled-asteria-string-quartet/
END:VEVENT
BEGIN:VEVENT
DTSTART;TZID=America/New_York:20180204T130000
DTEND;TZID=America/New_York:20180204T160000
DTSTAMP:20260420T032617
CREATED:20180105T182023Z
LAST-MODIFIED:20180105T182036Z
UID:5816-1517749200-1517760000@wbtai.com
SUMMARY:Chicken BBQ
DESCRIPTION:Varysburg Auxiliary will host a chicken bbq\, Sunday\, February 4\, 1pm to 4pm\, at the Fire Hall. For more information or tickets call 535-7321.
URL:https://wbtai.com/calendars/chicken-bbq/
END:VEVENT
BEGIN:VEVENT
DTSTART;TZID=America/New_York:20180207T080000
DTEND;TZID=America/New_York:20180207T170000
DTSTAMP:20260420T032617
CREATED:20180130T185036Z
LAST-MODIFIED:20180130T185050Z
UID:6574-1517990400-1518022800@wbtai.com
SUMMARY:HomeCare & Hospice Bouquet Sale
DESCRIPTION:The last day to place your order for the HomeCare & Hospice Spring Bouquet Sale is Wednesday\, February 7. Bouquets will be delivered the week of March 5th. For more information call Nick O’Keefe at 716-372-2106. Orders may be placed online.
URL:https://wbtai.com/calendars/homecare-hospice-bouquet-sale/
END:VEVENT
BEGIN:VEVENT
DTSTART;TZID=America/New_York:20180208T160000
DTEND;TZID=America/New_York:20180208T190000
DTSTAMP:20260420T032617
CREATED:20180105T181405Z
LAST-MODIFIED:20180105T181420Z
UID:5814-1518105600-1518116400@wbtai.com
SUMMARY:Anti-Rabies Clinic
DESCRIPTION:The Genesee County Health Department will offer a free anti-rabies immunization clinic on Thursday\, February 8\, 4pm to 7pm at the Town of Batavia Highway Garage\, West Main Street Road\, Batavia. Each dog\, cat\, or ferret must be accompanied by someone who can control it. Voluntary donations accepted.
URL:https://wbtai.com/calendars/anti-rabies-clinic/
END:VEVENT
BEGIN:VEVENT
DTSTART;TZID=America/New_York:20180208T190000
DTEND;TZID=America/New_York:20180208T200000
DTSTAMP:20260420T032617
CREATED:20180105T182519Z
LAST-MODIFIED:20180105T182530Z
UID:5818-1518116400-1518120000@wbtai.com
SUMMARY:Travelogue: China
DESCRIPTION:Richmond Memorial Library\, 19 Ross Street\, Batavia\, will host\, “Travelogue: China” Thursday\, February 8\, 7pm\, as Dan Hickey shares his photographs during his recent trip to China with the Genesee County Chamber of Commerce.
URL:https://wbtai.com/calendars/travelogue-china/
END:VEVENT
BEGIN:VEVENT
DTSTART;TZID=America/New_York:20180208T190000
DTEND;TZID=America/New_York:20180208T203000
DTSTAMP:20260420T032617
CREATED:20180130T190346Z
LAST-MODIFIED:20180130T190425Z
UID:6576-1518116400-1518121800@wbtai.com
SUMMARY:Downtown Revitalization Open House
DESCRIPTION:City of Batavia Downtown Revitalization Initiative second public open house will be held Thursday\, February 8\, 7pm\, in the City Hall. A review of proposed projects will be presented.
URL:https://wbtai.com/calendars/downtown-revitalization-open-house/
END:VEVENT
BEGIN:VEVENT
DTSTART;TZID=America/New_York:20180210T110000
DTEND;TZID=America/New_York:20180210T130000
DTSTAMP:20260420T032617
CREATED:20180207T185444Z
LAST-MODIFIED:20180207T185459Z
UID:6778-1518260400-1518267600@wbtai.com
SUMMARY:Parent & Me Decorating Demo
DESCRIPTION:The Cultural Culinary Kitchen at Go Art!\, 201 East Main Street\, Batavia\, will host a Parent and Me Valentine’s Day Cupcake decorating demo\, Saturday\, February 10\, 11am to 1pm. Kids ages 8 and up can sign up with a parent. Reservations are required. Call 343-9313.
URL:https://wbtai.com/calendars/parent-me-decorating-demo/
LOCATION:Go Art! 201 E Main St.\, Batavia\, NY
END:VEVENT
BEGIN:VEVENT
DTSTART;TZID=America/New_York:20180210T150000
DTEND;TZID=America/New_York:20180210T170000
DTSTAMP:20260420T032617
CREATED:20180105T173330Z
LAST-MODIFIED:20180105T173346Z
UID:5806-1518274800-1518282000@wbtai.com
SUMMARY:Hockey Game
DESCRIPTION:WBTA will broadcast the hockey game between Genesee Batavia and Notre Dame on Saturday\, February 10\, 3pm\, from Faletti Ice Arena.
URL:https://wbtai.com/calendars/hockey-game-3/
END:VEVENT
BEGIN:VEVENT
DTSTART;TZID=America/New_York:20180210T160000
DTEND;TZID=America/New_York:20180210T210000
DTSTAMP:20260420T032617
CREATED:20180208T151430Z
LAST-MODIFIED:20180208T151444Z
UID:6821-1518278400-1518296400@wbtai.com
SUMMARY:Winter Guard
DESCRIPTION:Batavia City School District Winterguard program will host 24 guards from Western NY and Canada\, Saturday\, February 10\, 4pm\, at the Batavia High School. Tickets available at the door.
URL:https://wbtai.com/calendars/winter-guard/
END:VEVENT
BEGIN:VEVENT
DTSTART;TZID=America/New_York:20180210T170000
DTEND;TZID=America/New_York:20180210T190000
DTSTAMP:20260420T032617
CREATED:20180130T190815Z
LAST-MODIFIED:20180130T190828Z
UID:6578-1518282000-1518289200@wbtai.com
SUMMARY:Sweetheart Dinner
DESCRIPTION:Trinity United Methodist Church\, 75 Main Street\, Attica\, will host a Sweetheart Spaghetti Dinner\, Saturday\, February 10\, 5pm to 7pm\,.  ( call 591-1949 for more information)
URL:https://wbtai.com/calendars/sweetheart-dinner/
END:VEVENT
BEGIN:VEVENT
DTSTART;TZID=America/New_York:20180213T080000
DTEND;TZID=America/New_York:20180213T170000
DTSTAMP:20260420T032617
CREATED:20171228T183039Z
LAST-MODIFIED:20171228T183054Z
UID:5560-1518508800-1518541200@wbtai.com
SUMMARY:Behavior Webinar
DESCRIPTION:RSVP for the behavior intervention plan webinar to be held Tuesday\, February 13\, 6pm to 8pm. In this webinar you will learn: when and why a behavior intervention plan (BIP) is conducted; when\, why\, and how to develop a BIP\, how a BIP leads to goals that can be built into a child’s individualized Education Program. RSVP at 716-332-4170 or email info@parentnetworkwny.org
URL:https://wbtai.com/calendars/behavior-webinar/
END:VEVENT
BEGIN:VEVENT
DTSTART;TZID=America/New_York:20180214T073000
DTEND;TZID=America/New_York:20180214T090000
DTSTAMP:20260420T032617
CREATED:20180207T190219Z
LAST-MODIFIED:20180207T190621Z
UID:6780-1518593400-1518598800@wbtai.com
SUMMARY:Tax Law Workshop
DESCRIPTION:The New Tax Laws and How You and Your Business may be affected will be the subject of the Genesee County Chamber of Commerce workshop on Wednesday\, February 14\, 7:30am\, at their offices on Park Road\, Batavia. Workshops are free to Chamber and BID members. Call Kelly Bermingham at 343-7440 to reserve your seat.
URL:https://wbtai.com/calendars/tax-law-workshop/
LOCATION:Genesee Co. Chamber of Commerce\, 8276 Park Road\, Batavia
END:VEVENT
BEGIN:VEVENT
DTSTART;TZID=America/New_York:20180214T074500
DTEND;TZID=America/New_York:20180214T091500
DTSTAMP:20260420T032617
CREATED:20180105T165154Z
LAST-MODIFIED:20180105T165207Z
UID:5789-1518594300-1518599700@wbtai.com
SUMMARY:Chamber Workshop Series
DESCRIPTION:Protecting your employees from sexual harassment is the topic of the Genesee County Chamber of Commerce workshop series on Wednesday\, February 14\, 7:45am\, at their offices on Park Road\, Batavia. The seminar is free to Chamber and BID members; there is a small fee if you are not a member. Call Kelly Bermingham at 343-7440 ext. 1026 to register. \n 
URL:https://wbtai.com/calendars/chamber-workshop-series/
LOCATION:Genesee Co. Chamber of Commerce\, 8276 Park Road\, Batavia
END:VEVENT
BEGIN:VEVENT
DTSTART;TZID=America/New_York:20180214T080000
DTEND;TZID=America/New_York:20180214T170000
DTSTAMP:20260420T032617
CREATED:20180104T200839Z
LAST-MODIFIED:20180104T200921Z
UID:5744-1518595200-1518627600@wbtai.com
SUMMARY:Overfed and Undernourished
DESCRIPTION:Overfed and undernourished presented by Ian Cramer\, at the Cornell Cooperative Extension\, 420 East Main Street\, Batavia\, Wednesday\, February 14\, 6pm. Space is limited for this free program for adults. Register by calling Samantha at 343-3040 ex. 123.  Discover information on weight loss\, common nutrition myths\, ways to live a healthy\, disease free lifestyle.
URL:https://wbtai.com/calendars/overfed-and-undernourished/
END:VEVENT
BEGIN:VEVENT
DTSTART;TZID=America/New_York:20180214T183000
DTEND;TZID=America/New_York:20180214T200000
DTSTAMP:20260420T032617
CREATED:20180208T154039Z
LAST-MODIFIED:20180208T154051Z
UID:6829-1518633000-1518638400@wbtai.com
SUMMARY:Writer's Group
DESCRIPTION:Richmond Memorial Library\, 19 Ross Street\, Batavia\, has a Writer’s Group meeting for adults on Wednesday\, February 14\, 6:30pm. The group meets the second Wednesday of each month. (Call the library at 343-9550 for more information)
URL:https://wbtai.com/calendars/writers-group/
LOCATION:Richmond Memorial Library\, 19 Ross St.\, Batavia NY
END:VEVENT
BEGIN:VEVENT
DTSTART;TZID=America/New_York:20180215T180000
DTEND;TZID=America/New_York:20180215T200000
DTSTAMP:20260420T032617
CREATED:20180208T151919Z
LAST-MODIFIED:20180208T151932Z
UID:6823-1518717600-1518724800@wbtai.com
SUMMARY:Go Art! Exhibit
DESCRIPTION:“Where do I go from Here?” an exhibit by Shirley Nigro will be at Go Art!\, 201 East Main Street\, Batavia\, from Thursday\, February 8 thru Saturday\, April 7. Artist’s reception will be held Thursday\, February 15\, 6pm to 8pm.  Visit web for gallery hours.
URL:https://wbtai.com/calendars/go-art-exhibit/
LOCATION:Go Art! 201 E Main St.\, Batavia\, NY
END:VEVENT
BEGIN:VEVENT
DTSTART;TZID=America/New_York:20180216T080000
DTEND;TZID=America/New_York:20180216T170000
DTSTAMP:20260420T032617
CREATED:20180130T183012Z
LAST-MODIFIED:20180130T183027Z
UID:6568-1518768000-1518800400@wbtai.com
SUMMARY:46th annual Chamber Awards
DESCRIPTION:46th annual Genesee County Chamber of Commerce awards ceremony will be held at the Quality Inn & Suites\, Park Road\, Batavia\, Saturday\, March 3\, 5:30pm.  RSVP the Chamber by Friday\, February 16th.
URL:https://wbtai.com/calendars/46th-annual-chamber-awards/
LOCATION:Genesee Co. Chamber of Commerce\, 8276 Park Road\, Batavia
END:VEVENT
BEGIN:VEVENT
DTSTART;TZID=America/New_York:20180216T080000
DTEND;TZID=America/New_York:20180216T170000
DTSTAMP:20260420T032617
CREATED:20180208T211239Z
LAST-MODIFIED:20180208T211252Z
UID:6868-1518768000-1518800400@wbtai.com
SUMMARY:Youth Bureau Awards Nominations
DESCRIPTION:Genesee County Youth  Bureau is looking for nominations of  an Adult Volunteer; who has been a role model for youth; Adult Youth Worker; this is a paid professional who has gone above and beyond in their position working with youth; and a Youth Recognition award nominee who are positive role models\, performed outstanding service to their community\, and have assumed extraordinary roles within their families. Nominations are due Friday\, February 16 to the Youth Bureau\, 2 Bank Street\, Batavia.  Electronic nomination forms available online. For more information contact Chelsea Elliott at 344-3960.
URL:https://wbtai.com/calendars/youth-bureau-awards-nominations/
END:VEVENT
BEGIN:VEVENT
DTSTART;TZID=America/New_York:20180216T180000
DTEND;TZID=America/New_York:20180218T180000
DTSTAMP:20260420T032617
CREATED:20180103T190855Z
LAST-MODIFIED:20180103T190855Z
UID:5695-1518804000-1518976800@wbtai.com
SUMMARY:Crossroads House Bowling Tournament
DESCRIPTION:The 22nd annual Betty Elison Memorial Strike Out for Crossroads House Bowling Tournament will be held at the Mancuso Bowling Center\, 214 Main Street\, Batavia\, Friday February 16 at 6pm ; Saturday\, February 17\, at 3pm and 6pm; and on Sunday\, February 18 at 1pm. Five person team registration on line  or call Cindy at 993-0584.
URL:https://wbtai.com/calendars/crossroads-house-bowling-tournament/
END:VEVENT
BEGIN:VEVENT
DTSTART;TZID=America/New_York:20180216T190000
DTEND;TZID=America/New_York:20180217T210000
DTSTAMP:20260420T032617
CREATED:20171226T154756Z
LAST-MODIFIED:20171226T154814Z
UID:5501-1518807600-1518901200@wbtai.com
SUMMARY:The Wizard of Oz
DESCRIPTION:Elba Central School Drama Club presents\, “The Wizard of Oz”\, Friday\, February 16\, 7pm and on Saturday\, February 17\, at 2pm and 7pm in the school auditorium. Tickets available at the door.
URL:https://wbtai.com/calendars/the-wizard-of-oz/
END:VEVENT
BEGIN:VEVENT
DTSTART;TZID=America/New_York:20180217T130000
DTEND;TZID=America/New_York:20180217T140000
DTSTAMP:20260420T032617
CREATED:20180208T154454Z
LAST-MODIFIED:20180208T154508Z
UID:6831-1518872400-1518876000@wbtai.com
SUMMARY:Tribute to Howard Frank Mosher
DESCRIPTION:Richmond Memorial Library\, 19 Ross Street\, Batavia\, will host a fireside tribute to the late  Howard Frank Mosher\, Tale for Three Counties author\, 2004\, on Saturday\, February 17\, 1pm to 2pm in the Library’s Reading Room.
URL:https://wbtai.com/calendars/tribute-to-howard-frank-mosher/
LOCATION:Richmond Memorial Library\, 19 Ross St.\, Batavia NY
END:VEVENT
BEGIN:VEVENT
DTSTART;TZID=America/New_York:20180218T160000
DTEND;TZID=America/New_York:20180218T200000
DTSTAMP:20260420T032617
CREATED:20180131T171335Z
LAST-MODIFIED:20180131T171350Z
UID:6606-1518969600-1518984000@wbtai.com
SUMMARY:Friends of Ricky Palermo Fundraiser
DESCRIPTION:Friends of Ricky Palermo will host a fundraiser\, Sunday\, February 18th\, 4pm to 8pm at T. F. Brown’s\, Batavia\,  Only 300 Tickets available. Contact Wade Bianco for more information and tickets.
URL:https://wbtai.com/calendars/friends-of-ricky-palermo-fundraiser/
END:VEVENT
BEGIN:VEVENT
DTSTART;TZID=America/New_York:20180220T183000
DTEND;TZID=America/New_York:20180220T203000
DTSTAMP:20260420T032617
CREATED:20180208T155645Z
LAST-MODIFIED:20180208T155658Z
UID:6836-1519151400-1519158600@wbtai.com
SUMMARY:Gnomes to Knit
DESCRIPTION:Richmond Memorial Library\, 19 Ross Street\, Batavia\, will present a class for adults who know how to knit on double pointed needles\, Tuesday\, February 20\, 6:30pm to create gnomes. Registration is required. Call 343-9550.
URL:https://wbtai.com/calendars/gnomes-to-knit/
LOCATION:Richmond Memorial Library\, 19 Ross St.\, Batavia NY
END:VEVENT
BEGIN:VEVENT
DTSTART;TZID=America/New_York:20180222T180000
DTEND;TZID=America/New_York:20180222T220000
DTSTAMP:20260420T032617
CREATED:20180208T154908Z
LAST-MODIFIED:20180208T154919Z
UID:6833-1519322400-1519336800@wbtai.com
SUMMARY:Reel Discussions
DESCRIPTION:Come view the movie\, ” He Named Me Malala”\, and join in discussions afterwards\, Thursday\, February 22\, 6pm\, at the Richmond Memorial Library\, 19 Ross Street\, Batavia.
URL:https://wbtai.com/calendars/reel-discussions-3/
LOCATION:Richmond Memorial Library\, 19 Ross St.\, Batavia NY
END:VEVENT
BEGIN:VEVENT
DTSTART;TZID=America/New_York:20180222T190000
DTEND;TZID=America/New_York:20180222T210000
DTSTAMP:20260420T032617
CREATED:20180208T153006Z
LAST-MODIFIED:20180208T153017Z
UID:6827-1519326000-1519333200@wbtai.com
SUMMARY:Agri CDL Training
DESCRIPTION:Cornell Cooperative Extension of Wyoming County in collaboration with Genesee Valley BOCES\, will offer CDL Training for both Class A and Class B licenses for Farm owners\, operators\, and their employees ONLY. An Informational meeting will be held Thursday\, February 22\, 7pm\, at the CCE office\, 36 Center Street\, Warsaw. Classes begin February 28.  To register contact Lisa at 585-786-2251.
URL:https://wbtai.com/calendars/agri-cdl-training/
END:VEVENT
END:VCALENDAR