BEGIN:VCALENDAR
VERSION:2.0
PRODID:-//WBTA - ECPv6.14.0//NONSGML v1.0//EN
CALSCALE:GREGORIAN
METHOD:PUBLISH
X-WR-CALNAME:WBTA
X-ORIGINAL-URL:https://wbtai.com
X-WR-CALDESC:Events for WBTA
REFRESH-INTERVAL;VALUE=DURATION:PT1H
X-Robots-Tag:noindex
X-PUBLISHED-TTL:PT1H
BEGIN:VTIMEZONE
TZID:America/New_York
BEGIN:DAYLIGHT
TZOFFSETFROM:-0500
TZOFFSETTO:-0400
TZNAME:EDT
DTSTART:20200308T070000
END:DAYLIGHT
BEGIN:STANDARD
TZOFFSETFROM:-0400
TZOFFSETTO:-0500
TZNAME:EST
DTSTART:20201101T060000
END:STANDARD
END:VTIMEZONE
BEGIN:VEVENT
DTSTART;TZID=America/New_York:20200501T190000
DTEND;TZID=America/New_York:20200503T210000
DTSTAMP:20260425T190938
CREATED:20191230T143825Z
LAST-MODIFIED:20191230T143843Z
UID:20143-1588359600-1588539600@wbtai.com
SUMMARY:Jack
DESCRIPTION:The Forum Players present a children’s theatre production: “Jack” by Mike Kenny\, Friday\, May 1\, 7pm; Saturday\, May 2 at 2pm and 7pm and Sunday\, May 3\, at 2pm\, in the Stuart Steiner Theatre\, GCC Batavia Campus. Tickets available by calling 345-6814 or go online to the boxoffice.
URL:https://wbtai.com/calendars/jack/
END:VEVENT
BEGIN:VEVENT
DTSTART;TZID=America/New_York:20200503T160000
DTEND;TZID=America/New_York:20200503T180000
DTSTAMP:20260425T190938
CREATED:20190910T163902Z
LAST-MODIFIED:20190910T164040Z
UID:18432-1588521600-1588528800@wbtai.com
SUMMARY:GSO Concert
DESCRIPTION:Genesee Symphony Orchestra will close this season with their concert Sunday\, May 3\, 4pm\, in the Elba Central School. Featured artist will be David Kim\, Violinist. Tickets available online or at the door.
URL:https://wbtai.com/calendars/gso-concert-7/
END:VEVENT
BEGIN:VEVENT
DTSTART;TZID=America/New_York:20200507T120000
DTEND;TZID=America/New_York:20200507T130000
DTSTAMP:20260425T190938
CREATED:20200207T195737Z
LAST-MODIFIED:20200207T195753Z
UID:20853-1588852800-1588856400@wbtai.com
SUMMARY:Garden Talk Series
DESCRIPTION:Common Garden Mistakes will be the topic for the Master Gardeners garden talk series on Thursday\, May 7\, 12:15\, at the Cornell Cooperative extension\, 420 East Main Street\, Batavia. Bring your lunch to this free talk.
URL:https://wbtai.com/calendars/garden-talk-series-8/
END:VEVENT
BEGIN:VEVENT
DTSTART;TZID=America/New_York:20200509T100000
DTEND;TZID=America/New_York:20200509T120000
DTSTAMP:20260425T190938
CREATED:20200108T165302Z
LAST-MODIFIED:20200108T165319Z
UID:20275-1589018400-1589025600@wbtai.com
SUMMARY:HLOM Children's Crafts
DESCRIPTION:The Holland Land Office Museum\, West Main Street\, Batavia\, will host a morning children’s craft\, Saturday\, May 9\, 10am to noon. Children ages 5 to 12 are invited to make Fairy Gardens. To register call 343-4727.
URL:https://wbtai.com/calendars/hlom-childrens-crafts-3/
END:VEVENT
BEGIN:VEVENT
DTSTART;TZID=America/New_York:20200523T173000
DTEND;TZID=America/New_York:20200523T210000
DTSTAMP:20260425T190938
CREATED:20200312T180714Z
LAST-MODIFIED:20200312T181141Z
UID:21289-1590255000-1590267600@wbtai.com
SUMMARY:America Through Song
DESCRIPTION:The Genesee Orleans Ministry of Concern will host a Las Vegas style variety show\, “America Through Song”\, Saturday\, May 23\, 5:30pm\, at the Quality Inn & Suites\, Park Road\, Batavia. Tickets available at Max Pies or by calling 589-9210.
URL:https://wbtai.com/calendars/america-through-song/
END:VEVENT
BEGIN:VEVENT
DTSTART;TZID=America/New_York:20200525T110000
DTEND;TZID=America/New_York:20200525T130000
DTSTAMP:20260425T190938
CREATED:20200507T180214Z
LAST-MODIFIED:20200507T180234Z
UID:22243-1590404400-1590411600@wbtai.com
SUMMARY:Chicken BBQ
DESCRIPTION:Byron Ladies Auxiliary \,  will host a chicken bbq\, Memorial Day\, Monday\, May 25\, 11:15 until sold out – take out ONLY\, at at the Fire Hall\, Rte. 262.
URL:https://wbtai.com/calendars/chicken-bbq-19/
END:VEVENT
BEGIN:VEVENT
DTSTART;TZID=America/New_York:20200530T110000
DTEND;TZID=America/New_York:20200531T150000
DTSTAMP:20260425T190938
CREATED:20200218T164250Z
LAST-MODIFIED:20200218T164323Z
UID:21001-1590836400-1590937200@wbtai.com
SUMMARY:Scrap for the Pack
DESCRIPTION:The Genesee County Animal Shelter will collect scrap metal\, Saturday\, May 30\, and on Sunday\, May 31\, 11am to 3pm\, at their facility\, 3841 West Main Street Road\, Batavia. Propane tanks\, ac units\, and refrigerators can NOT be accepted.
URL:https://wbtai.com/calendars/scrap-for-the-pack-2/
END:VEVENT
END:VCALENDAR