BEGIN:VCALENDAR
VERSION:2.0
PRODID:-//WBTA - ECPv6.14.0//NONSGML v1.0//EN
CALSCALE:GREGORIAN
METHOD:PUBLISH
X-ORIGINAL-URL:https://wbtai.com
X-WR-CALDESC:Events for WBTA
REFRESH-INTERVAL;VALUE=DURATION:PT1H
X-Robots-Tag:noindex
X-PUBLISHED-TTL:PT1H
BEGIN:VTIMEZONE
TZID:America/New_York
BEGIN:DAYLIGHT
TZOFFSETFROM:-0500
TZOFFSETTO:-0400
TZNAME:EDT
DTSTART:20230312T070000
END:DAYLIGHT
BEGIN:STANDARD
TZOFFSETFROM:-0400
TZOFFSETTO:-0500
TZNAME:EST
DTSTART:20231105T060000
END:STANDARD
END:VTIMEZONE
BEGIN:VEVENT
DTSTART;TZID=America/New_York:20230126T180000
DTEND;TZID=America/New_York:20230126T220000
DTSTAMP:20260424T043555
CREATED:20230110T193719Z
LAST-MODIFIED:20230110T193750Z
UID:33317-1674756000-1674770400@wbtai.com
SUMMARY:Reel Discussions
DESCRIPTION:Come view the movie\, ” I am Woman”\, and join in discussions afterward\, Thursday\, January 26\, 6pm. at the Richmond Memorial Library.
URL:https://wbtai.com/calendars/reel-discussions-37/
END:VEVENT
BEGIN:VEVENT
DTSTART;TZID=America/New_York:20230128T100000
DTEND;TZID=America/New_York:20230128T120000
DTSTAMP:20260424T043555
CREATED:20230118T151905Z
LAST-MODIFIED:20230118T151924Z
UID:33468-1674900000-1674907200@wbtai.com
SUMMARY:Crafty Show n tell
DESCRIPTION:The Hope Center Ladies Group invite crafters\, readers\, roamers – women of all ages – to join them Saturday\, January 28\, 10am to noon\, 42\, Main Street\, LeRoy. RSVP by calling 768-8184.
URL:https://wbtai.com/calendars/crafty-show-n-tell/
END:VEVENT
BEGIN:VEVENT
DTSTART;TZID=America/New_York:20230128T170000
DTEND;TZID=America/New_York:20230128T210000
DTSTAMP:20260424T043555
CREATED:20230110T190118Z
LAST-MODIFIED:20230110T190129Z
UID:33298-1674925200-1674939600@wbtai.com
SUMMARY:Crossroads House Red Carpet Gala
DESCRIPTION:Crossroads House Red Carpet Gala to celebrate 25 years will be held at Batavia Downs\, Saturday\, January 28. Doors open at 5pm.  Tickets must be purchased in advance.
URL:https://wbtai.com/calendars/crossroads-house-red-carpet-gala/
END:VEVENT
END:VCALENDAR