BEGIN:VCALENDAR
VERSION:2.0
PRODID:-//WBTA - ECPv6.14.0//NONSGML v1.0//EN
CALSCALE:GREGORIAN
METHOD:PUBLISH
X-ORIGINAL-URL:https://wbtai.com
X-WR-CALDESC:Events for WBTA
REFRESH-INTERVAL;VALUE=DURATION:PT1H
X-Robots-Tag:noindex
X-PUBLISHED-TTL:PT1H
BEGIN:VTIMEZONE
TZID:America/New_York
BEGIN:DAYLIGHT
TZOFFSETFROM:-0500
TZOFFSETTO:-0400
TZNAME:EDT
DTSTART:20230312T070000
END:DAYLIGHT
BEGIN:STANDARD
TZOFFSETFROM:-0400
TZOFFSETTO:-0500
TZNAME:EST
DTSTART:20231105T060000
END:STANDARD
END:VTIMEZONE
BEGIN:VEVENT
DTSTART;TZID=America/New_York:20230202T120000
DTEND;TZID=America/New_York:20230202T130000
DTSTAMP:20260424T061002
CREATED:20230110T192106Z
LAST-MODIFIED:20230110T192123Z
UID:33306-1675339200-1675342800@wbtai.com
SUMMARY:Garden Talk Series
DESCRIPTION:Take a virtual tour of two English Gardens with the Genesee County Master Gardeners\, Thursday\, February 2\, at noon. Contact Mandy at 343-3040 x 101 to attend in person  or receive information to register for a zoom link.
URL:https://wbtai.com/calendars/garden-talk-series-10/
END:VEVENT
BEGIN:VEVENT
DTSTART;TZID=America/New_York:20230204T080000
DTEND;TZID=America/New_York:20230204T110000
DTSTAMP:20260424T061002
CREATED:20221220T172735Z
LAST-MODIFIED:20221220T172741Z
UID:33031-1675497600-1675508400@wbtai.com
SUMMARY:WBTA Auction
DESCRIPTION:The next WBTA Really BIG Radio Auction – the first of 2023 – will be held Saturday\, Febuary 4\, at 8am. Auction page on the website will have items listed going up for bid!
URL:https://wbtai.com/calendars/wbta-auction-28/
END:VEVENT
BEGIN:VEVENT
DTSTART;TZID=America/New_York:20230218T163000
DTEND;TZID=America/New_York:20230218T210000
DTSTAMP:20260424T061002
CREATED:20230208T180058Z
LAST-MODIFIED:20230208T180113Z
UID:33810-1676737800-1676754000@wbtai.com
SUMMARY:Batavia Winterguard
DESCRIPTION:Batavia Winterguards will perform in the Northeast Colorguard Competition on Saturday\, February 18\, at the Batavia High School\, 260 State Street. The Batavia Cadet Winterguard will compete at 5:05pm and the Varsity Winterguard will compete at 7:26pm.  Show starts at 4:30pm; Children 5 and under are free. Tickets available at the door.
URL:https://wbtai.com/calendars/batavia-winterguard/
END:VEVENT
BEGIN:VEVENT
DTSTART;TZID=America/New_York:20230219T160000
DTEND;TZID=America/New_York:20230219T170000
DTSTAMP:20260424T061002
CREATED:20230203T175028Z
LAST-MODIFIED:20230203T175154Z
UID:33760-1676822400-1676826000@wbtai.com
SUMMARY:GSO Concert
DESCRIPTION:Genesee Symphony Orchestra will perform an All Brahms Program Sunday\, February 19\, 4pm\, in the Genesee Community College\, Stuart Steiner Theatre\, Batavia Campus. Tickets available at the door.
URL:https://wbtai.com/calendars/gso-concert-9/
END:VEVENT
BEGIN:VEVENT
DTSTART;TZID=America/New_York:20230223T090000
DTEND;TZID=America/New_York:20230223T100000
DTSTAMP:20260424T061002
CREATED:20230222T154610Z
LAST-MODIFIED:20230222T154629Z
UID:33970-1677142800-1677146400@wbtai.com
SUMMARY:Java with Joe E
DESCRIPTION:Due to projected bad weather\, Java with Joe E at the Holland Land Office Museum has been cancelled for Thursday\, Febrary 23 and RESCHEDULED for Thursday\, March 2\, 9am.
URL:https://wbtai.com/calendars/java-with-joe-e-4/
END:VEVENT
BEGIN:VEVENT
DTSTART;TZID=America/New_York:20230228T110000
DTEND;TZID=America/New_York:20230228T210000
DTSTAMP:20260424T061002
CREATED:20230202T205835Z
LAST-MODIFIED:20230202T205840Z
UID:33743-1677582000-1677618000@wbtai.com
SUMMARY:GCA Fund Raiser
DESCRIPTION:Genesee Cancer Assistance will host a fund raiser at Batavia’s Original\, Tuesday\, February 28\, all day. For more information call GCA At 345-0417.
URL:https://wbtai.com/calendars/gca-fund-raiser/
END:VEVENT
END:VCALENDAR