BEGIN:VCALENDAR
VERSION:2.0
PRODID:-//WBTA - ECPv6.14.0//NONSGML v1.0//EN
CALSCALE:GREGORIAN
METHOD:PUBLISH
X-WR-CALNAME:WBTA
X-ORIGINAL-URL:https://wbtai.com
X-WR-CALDESC:Events for WBTA
REFRESH-INTERVAL;VALUE=DURATION:PT1H
X-Robots-Tag:noindex
X-PUBLISHED-TTL:PT1H
BEGIN:VTIMEZONE
TZID:America/New_York
BEGIN:DAYLIGHT
TZOFFSETFROM:-0500
TZOFFSETTO:-0400
TZNAME:EDT
DTSTART:20230312T070000
END:DAYLIGHT
BEGIN:STANDARD
TZOFFSETFROM:-0400
TZOFFSETTO:-0500
TZNAME:EST
DTSTART:20231105T060000
END:STANDARD
END:VTIMEZONE
BEGIN:VEVENT
DTSTART;TZID=America/New_York:20230601T120000
DTEND;TZID=America/New_York:20230601T130000
DTSTAMP:20260421T194227
CREATED:20230110T193420Z
LAST-MODIFIED:20230110T193435Z
UID:33315-1685620800-1685624400@wbtai.com
SUMMARY:Garden Talk Series
DESCRIPTION:You can learn to help monarch butterflies in the Genesee County Master Gardeners Garden Talk Series\, Thursday\, June 1\, at noon. Call Mandy at 343-3040 to register to attend in person or receive a zoom link.
URL:https://wbtai.com/calendars/garden-talk-series-14/
END:VEVENT
BEGIN:VEVENT
DTSTART;TZID=America/New_York:20230602T090000
DTEND;TZID=America/New_York:20230602T140000
DTSTAMP:20260421T194227
CREATED:20230523T171826Z
LAST-MODIFIED:20230523T171835Z
UID:35505-1685696400-1685714400@wbtai.com
SUMMARY:Church Yard Sale
DESCRIPTION:St. Maximilian Kolbe Parish\, 8656 Church Street\, East Pembroke\, will host a yard sale\, Saturday\, June 2\, 9am to 2pm.
URL:https://wbtai.com/calendars/church-yard-sale-4/
END:VEVENT
BEGIN:VEVENT
DTSTART;TZID=America/New_York:20230602T090000
DTEND;TZID=America/New_York:20230603T140000
DTSTAMP:20260421T194227
CREATED:20230524T170124Z
LAST-MODIFIED:20230524T170134Z
UID:35539-1685696400-1685800800@wbtai.com
SUMMARY:Bargain Basement sale
DESCRIPTION:Corfu United Presbyterian Church\, 63 Alleghany Street\, Corfu\, will host the annual Bargain Basement Sale on Friday and Saturday\, June 2\, and 3\, from 9am to 2pm. Lunch will be available.
URL:https://wbtai.com/calendars/bargain-basement-sale/
END:VEVENT
BEGIN:VEVENT
DTSTART;TZID=America/New_York:20230606T140000
DTEND;TZID=America/New_York:20230606T160000
DTSTAMP:20260421T194227
CREATED:20230524T171007Z
LAST-MODIFIED:20230524T171018Z
UID:35543-1686060000-1686067200@wbtai.com
SUMMARY:Job Fair
DESCRIPTION:The Genesee County Job Development Bureau will host a job fair\, Tuesday\, June 6\, 2pm to 4pm\, at the Career Center\, 587 East Main Street\, Batavia.
URL:https://wbtai.com/calendars/job-fair-4/
END:VEVENT
BEGIN:VEVENT
DTSTART;TZID=America/New_York:20230617T100000
DTEND;TZID=America/New_York:20230617T160000
DTSTAMP:20260421T194227
CREATED:20230613T191630Z
LAST-MODIFIED:20230613T191639Z
UID:35945-1686996000-1687017600@wbtai.com
SUMMARY:HLOM Path through History War 1812 Encampment
DESCRIPTION:Holland Land Office Museum will be hosting a War of 1812 Encampment on Saturday\, June 17 from 10am to 4pm\, Main Street\, Batavia.  The event features re-enactors\, encampment\, and other displays both inside and outside.  The event is included with regular admission to the museum\, and for more information contact Ryan Duffy at 585-343-4727.
URL:https://wbtai.com/calendars/hlom-path-through-history-war-1812-encampment/
END:VEVENT
BEGIN:VEVENT
DTSTART;TZID=America/New_York:20230618T073000
DTEND;TZID=America/New_York:20230618T110000
DTSTAMP:20260421T194227
CREATED:20230516T143349Z
LAST-MODIFIED:20230516T143358Z
UID:35347-1687073400-1687086000@wbtai.com
SUMMARY:Rotary Fly in Breakfast
DESCRIPTION:Batavia Rotary Club invites everyone out to the Father’s Day Fly-In Breakfast\, Sunday\, June 18\, 7:30am to 11am at the County Airport.  Children under age 4 are free.
URL:https://wbtai.com/calendars/rotary-fly-in-breakfast-2/
END:VEVENT
BEGIN:VEVENT
DTSTART;TZID=America/New_York:20230620T110000
DTEND;TZID=America/New_York:20230620T190000
DTSTAMP:20260421T194227
CREATED:20230524T170540Z
LAST-MODIFIED:20230524T170702Z
UID:35541-1687258800-1687287600@wbtai.com
SUMMARY:Golf to benefit Habitat for Humanity
DESCRIPTION:Smart Design Architecture Golf Outing to benefit Habitat for Humanity will be held at Terry Hills Golf Course\, Tuesday\, June 20 with an 11am registration time. Call Martha at 343-4067 for more information and registration.
URL:https://wbtai.com/calendars/golf-to-benefit-habitat-for-humanity/
END:VEVENT
BEGIN:VEVENT
DTSTART;TZID=America/New_York:20230624T100000
DTEND;TZID=America/New_York:20230624T130000
DTSTAMP:20260421T194227
CREATED:20230613T192507Z
LAST-MODIFIED:20230613T192514Z
UID:35947-1687600800-1687611600@wbtai.com
SUMMARY:Free Fishing Derby / Day
DESCRIPTION:Join the Genesee County Parks along with the Oakfield-Alabama Lions Club at DeWitt Recreation Area on Saturday June 24th from 10am to 1pm for a day of free fishing fun\, especially for kids ages 15 and under. .  No fishing license required.   Fishing gear and bait provided or bring your own. Call 585-344-1122 for registration or information.
URL:https://wbtai.com/calendars/free-fishing-derby-day/
END:VEVENT
END:VCALENDAR