BEGIN:VCALENDAR
VERSION:2.0
PRODID:-//WBTA - ECPv6.14.0//NONSGML v1.0//EN
CALSCALE:GREGORIAN
METHOD:PUBLISH
X-WR-CALNAME:WBTA
X-ORIGINAL-URL:https://wbtai.com
X-WR-CALDESC:Events for WBTA
REFRESH-INTERVAL;VALUE=DURATION:PT1H
X-Robots-Tag:noindex
X-PUBLISHED-TTL:PT1H
BEGIN:VTIMEZONE
TZID:America/New_York
BEGIN:DAYLIGHT
TZOFFSETFROM:-0500
TZOFFSETTO:-0400
TZNAME:EDT
DTSTART:20230312T070000
END:DAYLIGHT
BEGIN:STANDARD
TZOFFSETFROM:-0400
TZOFFSETTO:-0500
TZNAME:EST
DTSTART:20231105T060000
END:STANDARD
END:VTIMEZONE
BEGIN:VEVENT
DTSTART;TZID=America/New_York:20230902T000000
DTEND;TZID=America/New_York:20230903T233000
DTSTAMP:20260421T075553
CREATED:20230821T135921Z
LAST-MODIFIED:20230821T135921Z
UID:38024-1693612800-1693783800@wbtai.com
SUMMARY:Wings over Batavia Air Show
DESCRIPTION:A thrilling Labor Day weekend is coming to Batavia Sept 2nd-3rd.  Go to the Genesee County Airport to enjoy the show.  Purchase tickets at WingsOverBatavia.com.  Kids 15 and under are free.
URL:https://wbtai.com/calendars/wings-over-batavia-air-show/
END:VEVENT
BEGIN:VEVENT
DTSTART;TZID=America/New_York:20230902T090000
DTEND;TZID=America/New_York:20230904T220000
DTSTAMP:20260421T075553
CREATED:20230821T135044Z
LAST-MODIFIED:20230821T135044Z
UID:38017-1693645200-1693864800@wbtai.com
SUMMARY:Oakfield Labor Daze Sept 2-4
DESCRIPTION:Come to Oakfield Labor Daze Saturday Sept. 2nd thru Monday Sept. 3rd for great music\, crafts\, a box car derby\, and fireworks.  Parade Monday at 10am and fireworks Sunday night.
URL:https://wbtai.com/calendars/oakfield-labor-daze-sept-2-4/
END:VEVENT
BEGIN:VEVENT
DTSTART;TZID=America/New_York:20230909T170000
DTEND;TZID=America/New_York:20230909T200000
DTSTAMP:20260421T075553
CREATED:20230803T154636Z
LAST-MODIFIED:20230803T154643Z
UID:37491-1694278800-1694289600@wbtai.com
SUMMARY:Summer Serenade
DESCRIPTION:United Way and Genesee Symphony Orchestra team up on Saturday\, September 9\, at Terry Hills Golf Course\, Batavia\, for Summer Serenade\, starting at 5pm. Tickets available at Lawley Insurance\, GSO members\, and online.
URL:https://wbtai.com/calendars/summer-serenade-4/
END:VEVENT
BEGIN:VEVENT
DTSTART;TZID=America/New_York:20230916T150000
DTEND;TZID=America/New_York:20230916T180000
DTSTAMP:20260421T075553
CREATED:20230905T145553Z
LAST-MODIFIED:20230905T145553Z
UID:38388-1694876400-1694887200@wbtai.com
SUMMARY:Chicken & Biscuit Dinner
DESCRIPTION:Join the York Baptist Church\, 2738 Main Street\, York\,  for a chicken and biscuit dinner on Saturday September 16th\, from 3-6pm.  DRIVE-THRU only!  $12.00-Adults.  $8.00-Students (school and college)  Children 5 and under free.
URL:https://wbtai.com/calendars/chicken-biscuit-dinner-7/
END:VEVENT
BEGIN:VEVENT
DTSTART;TZID=America/New_York:20230923T080000
DTEND;TZID=America/New_York:20230923T110000
DTSTAMP:20260421T075553
CREATED:20230911T143614Z
LAST-MODIFIED:20230911T143614Z
UID:38550-1695456000-1695466800@wbtai.com
SUMMARY:WBTA RADIO AUCTION
DESCRIPTION:Join WBTA Saturday Sept. 23 for our next really big radio auction.  Go to wbtai.com and click on the auction tab for details and items listed for bid.
URL:https://wbtai.com/calendars/wbta-radio-auction-4/
END:VEVENT
BEGIN:VEVENT
DTSTART;TZID=America/New_York:20230927T160000
DTEND;TZID=America/New_York:20230927T200000
DTSTAMP:20260421T075553
CREATED:20230824T141609Z
LAST-MODIFIED:20230824T141609Z
UID:38129-1695830400-1695844800@wbtai.com
SUMMARY:Dine to Donate Night to Benefit Crossroads House
DESCRIPTION:Town and Country Restaurant\, 5025 East Main Street in Batavia\, will be hosting a Dine to Donate night to benefit the Crossroads House Wednesday\, Sept 27th.  20% of all evenings pre-tax receipts from 4pm to 8pm will be donated to Crossroads House.
URL:https://wbtai.com/calendars/dine-to-donate-night-to-benefit-crossroads-house/
END:VEVENT
BEGIN:VEVENT
DTSTART;TZID=America/New_York:20230929T180000
DTEND;TZID=America/New_York:20230929T220000
DTSTAMP:20260421T075553
CREATED:20230925T141735Z
LAST-MODIFIED:20230925T141735Z
UID:38950-1696010400-1696024800@wbtai.com
SUMMARY:Barn Dance
DESCRIPTION:The 2nd Annual Genesee County Barn Dance will be held at 7411 Oak orchard Rd in Elba of Friday Sept. 29th from 6-10pm.  Go to TOBGOP.COM for your tickets and more information.  Music provided by GENESEE TED\, food by TF BROWNS.
URL:https://wbtai.com/calendars/barn-dance/
END:VEVENT
BEGIN:VEVENT
DTSTART;TZID=America/New_York:20230929T190000
DTEND;TZID=America/New_York:20230929T210000
DTSTAMP:20260421T075553
CREATED:20230911T142027Z
LAST-MODIFIED:20230911T142443Z
UID:38540-1696014000-1696021200@wbtai.com
SUMMARY:West Side Stories
DESCRIPTION:Friday\, September 29th join Connie Boyd as she shares spooky documented stories of the West Side of Batavia’s past. Tickets are $5 or $3 for museum members.  Call 585-343-4727 to attend.
URL:https://wbtai.com/calendars/west-side-stories/
END:VEVENT
END:VCALENDAR