BEGIN:VCALENDAR
VERSION:2.0
PRODID:-//WBTA - ECPv6.14.0//NONSGML v1.0//EN
CALSCALE:GREGORIAN
METHOD:PUBLISH
X-WR-CALNAME:WBTA
X-ORIGINAL-URL:https://wbtai.com
X-WR-CALDESC:Events for WBTA
REFRESH-INTERVAL;VALUE=DURATION:PT1H
X-Robots-Tag:noindex
X-PUBLISHED-TTL:PT1H
BEGIN:VTIMEZONE
TZID:America/New_York
BEGIN:DAYLIGHT
TZOFFSETFROM:-0500
TZOFFSETTO:-0400
TZNAME:EDT
DTSTART:20230312T070000
END:DAYLIGHT
BEGIN:STANDARD
TZOFFSETFROM:-0400
TZOFFSETTO:-0500
TZNAME:EST
DTSTART:20231105T060000
END:STANDARD
END:VTIMEZONE
BEGIN:VEVENT
DTSTART;TZID=America/New_York:20231201T190000
DTEND;TZID=America/New_York:20231201T190000
DTSTAMP:20260420T173738
CREATED:20231120T163336Z
LAST-MODIFIED:20231120T163336Z
UID:40359-1701457200-1701457200@wbtai.com
SUMMARY:The Alibis Comedy Show-A BHS Drama Club Black Box Production
DESCRIPTION:The Alibis a comedy by Johnathan Dorf\, Tyler Wiggins\, Kathryn Funkhouser\, Patrick Greene\, Mora V. Harris\, Carrie McCrossen\, Ian McWethy\, and Jason Pizzarello will be December 1st and 2nd at 7pm\, and December 3rd at 2pm.  Show will be at the Batavia High School 260 State Street\, Batavia.  $8.50 for advance sale or $10 general admission at the door\, go to showtix4u.com for more information.
URL:https://wbtai.com/calendars/the-alibis-comedy-show-a-bhs-drama-club-black-box-production/
END:VEVENT
BEGIN:VEVENT
DTSTART;TZID=America/New_York:20231202T190000
DTEND;TZID=America/New_York:20231202T190000
DTSTAMP:20260420T173738
CREATED:20231120T163417Z
LAST-MODIFIED:20231120T163417Z
UID:40361-1701543600-1701543600@wbtai.com
SUMMARY:The Alibis Comedy Show
DESCRIPTION:The Alibis a comedy by Johnathan Dorf\, Tyler Wiggins\, Kathryn Funkhouser\, Patrick Greene\, Mora V. Harris\, Carrie McCrossen\, Ian McWethy\, and Jason Pizzarello will be December 1st and 2nd at 7pm\, and December 3rd at 2pm.  Show will be at the Batavia High School 260 State Street\, Batavia.  $8.50 for advance sale or $10 general admission at the door\, go to showtix4u.com for more information.
URL:https://wbtai.com/calendars/the-alibis-comedy-show/
END:VEVENT
BEGIN:VEVENT
DTSTART;TZID=America/New_York:20231203T140000
DTEND;TZID=America/New_York:20231203T140000
DTSTAMP:20260420T173738
CREATED:20231120T163458Z
LAST-MODIFIED:20231120T163458Z
UID:40363-1701612000-1701612000@wbtai.com
SUMMARY:The Alibis Comedy Show
DESCRIPTION:The Alibis a comedy by Johnathan Dorf\, Tyler Wiggins\, Kathryn Funkhouser\, Patrick Greene\, Mora V. Harris\, Carrie McCrossen\, Ian McWethy\, and Jason Pizzarello will be December 1st and 2nd at 7pm\, and December 3rd at 2pm.  Show will be at the Batavia High School 260 State Street\, Batavia.  $8.50 for advance sale or $10 general admission at the door\, go to showtix4u.com for more information.
URL:https://wbtai.com/calendars/the-alibis-comedy-show-2/
END:VEVENT
BEGIN:VEVENT
DTSTART;TZID=America/New_York:20231217T140000
DTEND;TZID=America/New_York:20231217T160000
DTSTAMP:20260420T173738
CREATED:20231121T170036Z
LAST-MODIFIED:20231121T170036Z
UID:40394-1702821600-1702828800@wbtai.com
SUMMARY:Children’s Christmas Party
DESCRIPTION:On Sunday\, December 17th from 2pm-4pm at 7068 North Bergen Road\, Bergen There will be kids arts & crafts\, story time\, cookie decorating and a visit with Santa.  Also\, vendors & basket raffles with drawings at 3:30pm. Children $5. Under 3 and adults are free. If you are interested in being a vendor or would like to donate a basket for this fundraiser for North Bergen Food Pantry call Pastor Dave Fish at 585-290-5487.
URL:https://wbtai.com/calendars/childrens-christmas-party/
END:VEVENT
END:VCALENDAR