BEGIN:VCALENDAR
VERSION:2.0
PRODID:-//WBTA - ECPv6.14.0//NONSGML v1.0//EN
CALSCALE:GREGORIAN
METHOD:PUBLISH
X-WR-CALNAME:WBTA
X-ORIGINAL-URL:https://wbtai.com
X-WR-CALDESC:Events for WBTA
REFRESH-INTERVAL;VALUE=DURATION:PT1H
X-Robots-Tag:noindex
X-PUBLISHED-TTL:PT1H
BEGIN:VTIMEZONE
TZID:America/New_York
BEGIN:DAYLIGHT
TZOFFSETFROM:-0500
TZOFFSETTO:-0400
TZNAME:EDT
DTSTART:20240310T070000
END:DAYLIGHT
BEGIN:STANDARD
TZOFFSETFROM:-0400
TZOFFSETTO:-0500
TZNAME:EST
DTSTART:20241103T060000
END:STANDARD
END:VTIMEZONE
BEGIN:VEVENT
DTSTART;TZID=America/New_York:20240301T080000
DTEND;TZID=America/New_York:20240303T170000
DTSTAMP:20260420T071546
CREATED:20240205T155414Z
LAST-MODIFIED:20240205T155414Z
UID:41830-1709280000-1709485200@wbtai.com
SUMMARY:BHS Music Events
DESCRIPTION:Friday through Sunday March 1st-3rd will be the Musical Production of “Footloose.”
URL:https://wbtai.com/calendars/bhs-music-events-2/
END:VEVENT
BEGIN:VEVENT
DTSTART;TZID=America/New_York:20240302T080000
DTEND;TZID=America/New_York:20240302T110000
DTSTAMP:20260420T071546
CREATED:20240226T180444Z
LAST-MODIFIED:20240226T180444Z
UID:42085-1709366400-1709377200@wbtai.com
SUMMARY:Really Big Radio Auction
DESCRIPTION:Join us Saturday March 2nd at 8am for our next Really Big Radio Auction!!  Go to https://wbtai.com/auction/ for a full list of items and download a segment guide.
URL:https://wbtai.com/calendars/really-big-radio-auction-2/
END:VEVENT
BEGIN:VEVENT
DTSTART;TZID=America/New_York:20240302T120000
DTEND;TZID=America/New_York:20240302T180000
DTSTAMP:20260420T071546
CREATED:20240205T154856Z
LAST-MODIFIED:20240205T154856Z
UID:41826-1709380800-1709402400@wbtai.com
SUMMARY:Genesee Cancer Assistance Bowling
DESCRIPTION:Join the Genesee Cancer Assistance for a Bowling Fundraiser March 2nd at Strikeforce Lanes at 49 S. Pear St. Oakfield.  Teams of 4 – $120\, with shifts 12\, 3\, and 6pm\, with contests and food and drink specials.  Go to geneseecancerassistance.org for information and registration.
URL:https://wbtai.com/calendars/genesee-cancer-assistance-bowling/
END:VEVENT
BEGIN:VEVENT
DTSTART;TZID=America/New_York:20240307T120000
DTEND;TZID=America/New_York:20240307T140000
DTSTAMP:20260420T071546
CREATED:20240109T171039Z
LAST-MODIFIED:20240109T171121Z
UID:41381-1709812800-1709820000@wbtai.com
SUMMARY:Free Garden Talk Series
DESCRIPTION:Join the Genesee County Master Gardeners for their monthly Garden Talk programs on March 7\, at Noon.  Learn about gardening on volcanic islands with Master Gardener Kathie W.  Garden Talk programs can be 30 to 60 minutes long and are free and open to all\, but registration is required.  Call 343-3040-ext 101 for in person or go to http://genesee.cce.cornell.edu/events for a zoom link.
URL:https://wbtai.com/calendars/41381/
END:VEVENT
BEGIN:VEVENT
DTSTART;TZID=America/New_York:20240307T163000
DTEND;TZID=America/New_York:20240307T163000
DTSTAMP:20260420T071546
CREATED:20240229T181432Z
LAST-MODIFIED:20240229T181432Z
UID:42138-1709829000-1709829000@wbtai.com
SUMMARY:Cornerstone Church Soup Supper
DESCRIPTION:the Cornerstone Church of East Pembroke is having a soup supper on March 7th that starts at 4:30pm and goes until gone.  Many different kinds of soup\, fresh break and butter and choices of dessert will be available.  Free will offering to benefit the Eagle Star House of East Pembroke.
URL:https://wbtai.com/calendars/cornerstone-church-soup-supper/
END:VEVENT
END:VCALENDAR