BEGIN:VCALENDAR
VERSION:2.0
PRODID:-//WBTA - ECPv6.14.0//NONSGML v1.0//EN
CALSCALE:GREGORIAN
METHOD:PUBLISH
X-WR-CALNAME:WBTA
X-ORIGINAL-URL:https://wbtai.com
X-WR-CALDESC:Events for WBTA
REFRESH-INTERVAL;VALUE=DURATION:PT1H
X-Robots-Tag:noindex
X-PUBLISHED-TTL:PT1H
BEGIN:VTIMEZONE
TZID:America/New_York
BEGIN:DAYLIGHT
TZOFFSETFROM:-0500
TZOFFSETTO:-0400
TZNAME:EDT
DTSTART:20240310T070000
END:DAYLIGHT
BEGIN:STANDARD
TZOFFSETFROM:-0400
TZOFFSETTO:-0500
TZNAME:EST
DTSTART:20241103T060000
END:STANDARD
END:VTIMEZONE
BEGIN:VEVENT
DTSTART;TZID=America/New_York:20240404T120000
DTEND;TZID=America/New_York:20240404T140000
DTSTAMP:20260420T040038
CREATED:20240109T171319Z
LAST-MODIFIED:20240109T171319Z
UID:41384-1712232000-1712239200@wbtai.com
SUMMARY:Free Garden Talk Series
DESCRIPTION:Join the Genesee County Master Gardeners for their monthly Garden Talk programs on April 4\, at Noon on “Bluebirds!” with Master Gardener Chee L.  Garden Talk programs can be 30 to 60 minutes long and are free and open to all\, but registration is required.  Call 343-3040-ext 101 for in person or go to http://genesee.cce.cornell.edu/events for a zoom link.
URL:https://wbtai.com/calendars/free-garden-talk-series-2/
END:VEVENT
BEGIN:VEVENT
DTSTART;TZID=America/New_York:20240406T080000
DTEND;TZID=America/New_York:20240406T110000
DTSTAMP:20260420T040038
CREATED:20240319T131033Z
LAST-MODIFIED:20240319T131033Z
UID:42326-1712390400-1712401200@wbtai.com
SUMMARY:WBTA Really Big Radio Auction
DESCRIPTION:Join WBTA on Saturday April 6th\, at 8am for our next Really Big Radio Auction.  Go to https://wbtai.com/auction/ for a list of items to be auctioned off\, and information.
URL:https://wbtai.com/calendars/wbta-really-big-radio-auction-7/
END:VEVENT
BEGIN:VEVENT
DTSTART;TZID=America/New_York:20240406T110000
DTEND;TZID=America/New_York:20240406T110000
DTSTAMP:20260420T040038
CREATED:20240319T130700Z
LAST-MODIFIED:20240319T130700Z
UID:42320-1712401200-1712401200@wbtai.com
SUMMARY:Suicide Prevention Training
DESCRIPTION:The Batavia American Legion at 8960 Alexander Rd.\, is hosting VA sponsored Suicide Prevention training\, Operation S. A. V. E. on Saturday\, April 6th at 11 AM.  Call Sara Andrew 716-256-9681 with any questions.
URL:https://wbtai.com/calendars/suicide-prevention-training/
END:VEVENT
BEGIN:VEVENT
DTSTART;TZID=America/New_York:20240406T133000
DTEND;TZID=America/New_York:20240406T133000
DTSTAMP:20260420T040038
CREATED:20240328T161506Z
LAST-MODIFIED:20240328T161506Z
UID:42451-1712410200-1712410200@wbtai.com
SUMMARY:History by the Hearth Poetry and Music
DESCRIPTION:Join the Richmond Memorial Library\, 19 Ross St.\, Batavia Saturday\, April 6\, 2024 1:30pm for the History by the Hearth 2023-2024 Lecture Series: Poetry and Music. Spend the afternoon in the Reading Room with Jim Morasco\, poet and author\, as he reads “Vincenzo’s Dream”  with musical guest\, Bart Dentino  No registration required.  For more information contact the Library at (585) 343-9550 or visit: www.batavialibrary.org
URL:https://wbtai.com/calendars/history-by-the-hearth-poetry-and-music/
END:VEVENT
BEGIN:VEVENT
DTSTART;TZID=America/New_York:20240410T140000
DTEND;TZID=America/New_York:20240410T153000
DTSTAMP:20260420T040038
CREATED:20240321T155240Z
LAST-MODIFIED:20240321T155240Z
UID:42385-1712757600-1712763000@wbtai.com
SUMMARY:Powerful Tools for Caregivers
DESCRIPTION:Join Genesee Co. Office for the Aging at 2 Bank Street in Batavia from 2-3:30pm for a FREE program on Wednesday April 10th\, April 17th\, April 24th\, May 1st\, May 8th\, and May 15th\, 2024 for weekly classes where family caregivers develop a wealth of self-care tools.  Call the Office for the Aging at 343-1611 for registration or more information.
URL:https://wbtai.com/calendars/powerful-tools-for-caregivers/
END:VEVENT
BEGIN:VEVENT
DTSTART;TZID=America/New_York:20240414T093000
DTEND;TZID=America/New_York:20240414T153000
DTSTAMP:20260420T040038
CREATED:20240402T141615Z
LAST-MODIFIED:20240402T141615Z
UID:42487-1713087000-1713108600@wbtai.com
SUMMARY:104th “Great Batavia Train Sale”
DESCRIPTION:The Genesee Society of Model Engineers will host the 104th “Great Batavia Train Sale” along with the “Batavia Railroad Prototype Modelers Meet” on Sunday\, April 14th\, 9:30AM – 3:30PM\, at the Richard C. Call Arena\, Genesee Community College\, 1 College Road\, Batavia\, NY 14020.  Admission: $6 (Adults)\, $3 (under 18 yrs.)\, Free (under 13 yrs.)
URL:https://wbtai.com/calendars/104th-great-batavia-train-sale/
END:VEVENT
BEGIN:VEVENT
DTSTART;TZID=America/New_York:20240418T190000
DTEND;TZID=America/New_York:20240418T190000
DTSTAMP:20260420T040038
CREATED:20240321T151039Z
LAST-MODIFIED:20240321T151039Z
UID:42375-1713466800-1713466800@wbtai.com
SUMMARY:Music at St. Mark's
DESCRIPTION:A free monthly concert series at St. Mark’s Episcopal Church\, 1 East Main St.\, Leroy presents the Rochester Mandolin Orchestra on Thursday\, April 18 at 7pm.  The program is funded by a Statewide Community Regrant Program through GO ART!  For more information go to stmarksleroy@gmail.com.
URL:https://wbtai.com/calendars/music-at-st-marks-4/
END:VEVENT
BEGIN:VEVENT
DTSTART;TZID=America/New_York:20240419T170000
DTEND;TZID=America/New_York:20240419T170000
DTSTAMP:20260420T040038
CREATED:20240411T165047Z
LAST-MODIFIED:20240411T165047Z
UID:42575-1713546000-1713546000@wbtai.com
SUMMARY:Memorial Day Parade Committee Meeting
DESCRIPTION:Please join us in planning the Memorial Day Parade in Batavia NY.  Parade Committee will meet on Friday April 19th at 5pm at Tim Hortons West (newar Tops Market).  We’re looking for groups to march in this years’ parade – Boy Scout\, Girl Scouts\, Sports Teams\, and Veterans.  Please email Bob Bialkowski for more information at bbwski@yahoo.com.
URL:https://wbtai.com/calendars/memorial-day-parade-committee-meeting/
END:VEVENT
BEGIN:VEVENT
DTSTART;TZID=America/New_York:20240420T120000
DTEND;TZID=America/New_York:20240420T120000
DTSTAMP:20260420T040038
CREATED:20240402T141347Z
LAST-MODIFIED:20240402T141347Z
UID:42485-1713614400-1713614400@wbtai.com
SUMMARY:Chicken BBQ
DESCRIPTION:Corfu United Presbyterian Church Chicken BBQ \n63 Alleghany St.\, Corfu\, NY \nSat.\, April 20\, – noon ‘til sold out \nEat-in/Take-Out \n½ chicken\, salad\, baked beans\, roll\, dessert – $15. \nPre-order recommended:  Call 585-599-6414
URL:https://wbtai.com/calendars/chicken-bbq-50/
END:VEVENT
BEGIN:VEVENT
DTSTART;TZID=America/New_York:20240425T160000
DTEND;TZID=America/New_York:20240425T190000
DTSTAMP:20260420T040038
CREATED:20240312T141133Z
LAST-MODIFIED:20240312T141133Z
UID:42255-1714060800-1714071600@wbtai.com
SUMMARY:Spaghetti Dinner
DESCRIPTION:The Genesee Cancer Assistance Joe Gerace’s Annual Spaghetti Dinner is Thursday\, April 25th 4pm – 7pm\, at the Ascension Parish Hall\, 17 Sumner St.\, Batavia.  Pre-sale tickets suggested at $15 (dine in or take out).  Call 585-345-0417 or visit www.geneseecancerassistance.org for more information
URL:https://wbtai.com/calendars/spaghetti-dinner-7/
END:VEVENT
BEGIN:VEVENT
DTSTART;TZID=America/New_York:20240427T133000
DTEND;TZID=America/New_York:20240427T133000
DTSTAMP:20260420T040038
CREATED:20240411T163057Z
LAST-MODIFIED:20240411T163057Z
UID:42569-1714224600-1714224600@wbtai.com
SUMMARY:History by the Hearth Spring
DESCRIPTION:On Saturday\, April 27 1:30pm at the Richmond Memorial Library in the Reading Room come spend the afternoon with the Genesee County Historian\, Michael Eula as he debuts his latest book\, Historical Chronicles of Genesee County.  Book purchases prior to and day of event.  Book signing to follow.  No registration required.  For more information contact the library at (585) 343-9550 or visit: www.batavialibrary.org. \n 
URL:https://wbtai.com/calendars/history-by-the-hearth-spring/
END:VEVENT
BEGIN:VEVENT
DTSTART;TZID=America/New_York:20240427T160000
DTEND;TZID=America/New_York:20240427T160000
DTSTAMP:20260420T040038
CREATED:20240402T141755Z
LAST-MODIFIED:20240402T141755Z
UID:42489-1714233600-1714233600@wbtai.com
SUMMARY:Chicken Barbecue
DESCRIPTION:The Covington Methodist Church is having their Annual Chicken Barbecue with Bazaar and Bake-Sale on Saturday\, April 27th \, from 4:00 till gone. The church is located at 1557 Simmons Road\, between Perry and Pavilion.  Barbecued chicken\, potatoes\, salad\, beans\, roll\, and home-made pie\, donation is $15.00 for adults and $7.50 for children. Take-out or eat in.
URL:https://wbtai.com/calendars/chicken-barbecue/
END:VEVENT
BEGIN:VEVENT
DTSTART;TZID=America/New_York:20240427T170000
DTEND;TZID=America/New_York:20240427T203000
DTSTAMP:20260420T040038
CREATED:20240319T172917Z
LAST-MODIFIED:20240319T173730Z
UID:42341-1714237200-1714249800@wbtai.com
SUMMARY:Chicken BBQ
DESCRIPTION:Ascension Parish & Rosary Society Present Chicken BBQ\, Live music\, dancing\, food & drink. Doors open at 5pm with “Rustic Ramblers” playing live music from 5:30-8:30pm. Menu: BBQ chicken\, salt potatoes\, baked beans\, dinner roll\, dessert\, coffee\, tea. TICKETS PRESALE ONLY by 4/17 Eat-in $20 Takeout $15. Beer & Wine Cash Bar. @ Ascension Parish Hall 19 Sumner St. Batavia\, NY. Call (585)343-1796
URL:https://wbtai.com/calendars/chicken-bbq-49/
END:VEVENT
BEGIN:VEVENT
DTSTART;TZID=America/New_York:20240427T173000
DTEND;TZID=America/New_York:20240427T173000
DTSTAMP:20260420T040038
CREATED:20240408T145157Z
LAST-MODIFIED:20240408T145157Z
UID:42528-1714239000-1714239000@wbtai.com
SUMMARY:Meat Raffle
DESCRIPTION:Come join the Batavia Business and Professional Women’s Club INC. on Saturday April 27th at the Notre Dame High School in Batavia NY.  Doors open at 5:30\, tickets are $10.  For more information contact Jennifer White at jlurtel@hotmail.com
URL:https://wbtai.com/calendars/meat-raffle/
END:VEVENT
END:VCALENDAR