BEGIN:VCALENDAR
VERSION:2.0
PRODID:-//WBTA - ECPv6.14.0//NONSGML v1.0//EN
CALSCALE:GREGORIAN
METHOD:PUBLISH
X-ORIGINAL-URL:https://wbtai.com
X-WR-CALDESC:Events for WBTA
REFRESH-INTERVAL;VALUE=DURATION:PT1H
X-Robots-Tag:noindex
X-PUBLISHED-TTL:PT1H
BEGIN:VTIMEZONE
TZID:America/New_York
BEGIN:DAYLIGHT
TZOFFSETFROM:-0500
TZOFFSETTO:-0400
TZNAME:EDT
DTSTART:20240310T070000
END:DAYLIGHT
BEGIN:STANDARD
TZOFFSETFROM:-0400
TZOFFSETTO:-0500
TZNAME:EST
DTSTART:20241103T060000
END:STANDARD
END:VTIMEZONE
BEGIN:VEVENT
DTSTART;TZID=America/New_York:20240531T090000
DTEND;TZID=America/New_York:20240601T140000
DTSTAMP:20260419T210153
CREATED:20240506T144339Z
LAST-MODIFIED:20240506T144339Z
UID:42795-1717146000-1717250400@wbtai.com
SUMMARY:Annual Bargain Basement Sale
DESCRIPTION:The annual Bargain Basement Sale will be held from 9 a.m. to 2 p.m.\, Fri.\, May 31 and Sat.\, June 1\, in the fellowship hall and under the tent on the lawn.  Donuts and coffee and hot dogs\, chip and pop will be available both days.  Donations are welcome and may be dropped off at the church starting\, Mon.\, May 27\, during the Memorial Day event\, and Tuesday\, May 28\, from 10 a.m. to 2 p.m. and Weds\, May 29\, 10 a.m. to 2 p.m. and 6 to 8 p.m.  Other drop off times or pick arrangements or questions about appropriate donations can be made by calling Paula Trapani\, 716-423-1907\, or Dorothy Lawrence\, 585-313-8996.
URL:https://wbtai.com/calendars/annual-bargain-basement-sale/
END:VEVENT
BEGIN:VEVENT
DTSTART;TZID=America/New_York:20240531T090000
DTEND;TZID=America/New_York:20240601T140000
DTSTAMP:20260419T210153
CREATED:20240509T163132Z
LAST-MODIFIED:20240509T163132Z
UID:42846-1717146000-1717250400@wbtai.com
SUMMARY:The annual Bargain Basement Sale
DESCRIPTION:The Corfu United Presbyterian Church\, 63 Alleghany St.\, Corfu\, NY 14036 is having The annual Bargain Basement Sale that will be held from 9 a.m. to 2 p.m.\, Fri.\, May 31 and Sat.\, June 1\, in the fellowship hall and under the tent on the lawn.  Donations are welcome and may be dropped off at the church starting\, Mon.\, May 27\, during the Memorial Day event\, and Tuesday\, May 28\, from 10 a.m. to 2 p.m. and Weds\, May 29\, 10 a.m. to 2 p.m. and 6 to 8 p.m.  Other drop off times or pick arrangements or questions about appropriate donations can be made by calling Paula Trapani\, 716-423-1907\, or Dorothy Lawrence\, 585-313-8996.
URL:https://wbtai.com/calendars/the-annual-bargain-basement-sale/
END:VEVENT
BEGIN:VEVENT
DTSTART;TZID=America/New_York:20240601T080000
DTEND;TZID=America/New_York:20240601T110000
DTSTAMP:20260419T210153
CREATED:20240321T154549Z
LAST-MODIFIED:20240321T154549Z
UID:42383-1717228800-1717239600@wbtai.com
SUMMARY:WBTA's Really Big Radio Auction
DESCRIPTION:Join WBTA on Saturday June 1st\, at 8am for our next Really Big Radio Auction. Go to https://wbtai.com/auction/ for a list of items to be auctioned off\, and information.
URL:https://wbtai.com/calendars/wbtas-really-big-radio-auction/
END:VEVENT
BEGIN:VEVENT
DTSTART;TZID=America/New_York:20240601T090000
DTEND;TZID=America/New_York:20240601T140000
DTSTAMP:20260419T210153
CREATED:20240513T151538Z
LAST-MODIFIED:20240513T151538Z
UID:42859-1717232400-1717250400@wbtai.com
SUMMARY:ATTICA AREA GARDEN CLUB PLANT SALE
DESCRIPTION:On Saturday June 1st 2024\, from 9am til 2pm at St. Luke’s Episcopal Church at 30 Favor St\, Attica there will be an Area garden Club Plant Sale.  Veggies\, perennials and annual plants will be available plus more. For more information call Colleen 585-535-0131.
URL:https://wbtai.com/calendars/attica-area-garden-club-plant-sale/
END:VEVENT
BEGIN:VEVENT
DTSTART;TZID=America/New_York:20240606T120000
DTEND;TZID=America/New_York:20240606T140000
DTSTAMP:20260419T210153
CREATED:20240109T173238Z
LAST-MODIFIED:20240109T173238Z
UID:41389-1717675200-1717682400@wbtai.com
SUMMARY:Free Garden Talk Series
DESCRIPTION:Join the Genesee County Master Gardeners for their monthly Garden Talk  June 6\, at Noon. Master Gardener Maud C. will do a demonstration on “How to Create a Terrarium.”  Always popular\, they are sometimes referred to as “gardens under glass.” Garden Talk programs can be 30 to 60 minutes long and are free and open to all\, but registration is required.  Call 343-3040-ext 101 for in person or go to http://genesee.cce.cornell.edu/events for a zoom link.
URL:https://wbtai.com/calendars/free-garden-talk-series-4/
END:VEVENT
BEGIN:VEVENT
DTSTART;TZID=America/New_York:20240608T110000
DTEND;TZID=America/New_York:20240608T160000
DTSTAMP:20260419T210153
CREATED:20240603T154644Z
LAST-MODIFIED:20240603T154644Z
UID:42909-1717844400-1717862400@wbtai.com
SUMMARY:Craft Show/Vendor Event Fest
DESCRIPTION:GRASP is hosting a craft show/vendor event and fest. on Saturday\, June 8th from 11:00 am-4:00 pm at the American Legion on 6444 Buffalo Rd\, Churchville\, Ny 14428.  70+ vendors\, food\, pony rides and music!
URL:https://wbtai.com/calendars/craft-show-vendor-event-fest/
END:VEVENT
BEGIN:VEVENT
DTSTART;TZID=America/New_York:20240608T150000
DTEND;TZID=America/New_York:20240608T220000
DTSTAMP:20260419T210153
CREATED:20240606T141216Z
LAST-MODIFIED:20240606T141216Z
UID:42918-1717858800-1717884000@wbtai.com
SUMMARY:Glow Out! Batavia Pride Celebration
DESCRIPTION:Pride Celebration June 8th from 3-10 pm. in Jackson Square\, with  Drag Queen Story Hour\, Food Trucks and Vendors\, a Parade and more.  Rain or Shine\, Events are FREE and open to the public.  For more information go to glowout.org
URL:https://wbtai.com/calendars/glow-out-batavia-pride-celebration/
END:VEVENT
BEGIN:VEVENT
DTSTART;TZID=America/New_York:20240609T160000
DTEND;TZID=America/New_York:20240609T170000
DTSTAMP:20260419T210153
CREATED:20240513T152425Z
LAST-MODIFIED:20240513T152425Z
UID:42862-1717948800-1717952400@wbtai.com
SUMMARY:Genesee Valley Recorder Ensemble
DESCRIPTION:The Genesee Valley Recorder Ensemble will perform on Sunday\, June 9 at 4:00 pm at St. Mark’s Episcopal Church\, 1 East Main St.\, LeRoy.  This is a free one-hour concert with a group of seven musicians is under the direction of St. Mark’s organist Dennis Mellander.  More information at stmarksleroy.org or by emailing stmarksleroy@gmail.com.
URL:https://wbtai.com/calendars/genesee-valley-recorder-ensemble/
END:VEVENT
BEGIN:VEVENT
DTSTART;TZID=America/New_York:20240615T170000
DTEND;TZID=America/New_York:20240615T210000
DTSTAMP:20260419T210153
CREATED:20240531T151938Z
LAST-MODIFIED:20240531T151938Z
UID:42904-1718470800-1718485200@wbtai.com
SUMMARY:Strawberry Shortcake Social
DESCRIPTION:Batavia First UMC\, 8221 Lewiston Rd. Batavia is having a Strawberry Shortcake Social is on Saturday\, June 15 from 5:00pm – 8:00pm.  Hot Dogs\, Chips\, Lemonade\, Strawberry Shortcake\, Karaoke and Baskets!  Call 585-343-4708 for Tickets and more information.
URL:https://wbtai.com/calendars/strawberry-shortcake-social/
END:VEVENT
BEGIN:VEVENT
DTSTART;TZID=America/New_York:20240616T130000
DTEND;TZID=America/New_York:20240616T190000
DTSTAMP:20260419T210153
CREATED:20240517T164425Z
LAST-MODIFIED:20240517T164425Z
UID:42875-1718542800-1718564400@wbtai.com
SUMMARY:Father's Day Jam and Musician Reunion
DESCRIPTION:Fathers Day Retro Jam and Musician Reunion is Sunday June 16th with live music from 1-7pm\, at the Oakfield Rod and Gun Club at 3199 Maltby Rd.\, Oakfield\, NY 14125.  Free admission with donations accepted for WNY Heroes\, Inc supporting our veterans.  Bands appearing: The Double Image Band\, Tim’s Healing Committee Prospect\, Front Porch Pickers\, Rock – A – Bully’s\, Bad Sign\, Patrice and Friends\, “k” Rick “Howe”.  Food is available for purchase\, BYO lawn chair\, cooler and pop up.
URL:https://wbtai.com/calendars/fathers-day-jam-and-musician-reunion/
END:VEVENT
BEGIN:VEVENT
DTSTART;TZID=America/New_York:20240617T130000
DTEND;TZID=America/New_York:20240617T130000
DTSTAMP:20260419T210153
CREATED:20240606T140811Z
LAST-MODIFIED:20240606T140811Z
UID:42916-1718629200-1718629200@wbtai.com
SUMMARY:Strawberry Social Summer Kickoff
DESCRIPTION:Join the Genesee Co. office for the Aging\, 2 Bank St. Batavia\, for a FREE Strawberry Social Summer Kickoff Event with entertainment from Magician Mike of Buffalo Magic.  Registration required\, RSVP by June 13th by calling 585-343-1611\, stop in or email at ofa.dept@geneseeny.gov.  Dessert and entertainment provided by Genesee Senior Foundation and Muriel H. Marshall Fund.
URL:https://wbtai.com/calendars/strawberry-social-summer-kickoff/
END:VEVENT
BEGIN:VEVENT
DTSTART;TZID=America/New_York:20240622T090000
DTEND;TZID=America/New_York:20240622T150000
DTSTAMP:20260419T210153
CREATED:20240523T155150Z
LAST-MODIFIED:20240523T155150Z
UID:42888-1719046800-1719068400@wbtai.com
SUMMARY:Sun Catchers  Garden Club Garage Sale
DESCRIPTION:June 22\, 2024\, 9:00 AM to 3:PM\, no early birds\, \nGarden items\,  toys\, books\,   household items. PLANTS  and more \n315 Bank St. Batavia New York
URL:https://wbtai.com/calendars/sun-catchers-garden-club-garage-sale/
END:VEVENT
END:VCALENDAR